BEGIN:VCALENDAR
VERSION:2.0
PRODID:-//Hermandad Piedad y Estrella - ECPv6.15.20//NONSGML v1.0//EN
CALSCALE:GREGORIAN
METHOD:PUBLISH
X-WR-CALNAME:Hermandad Piedad y Estrella
X-ORIGINAL-URL:https://piedadyestrella.es
X-WR-CALDESC:Eventos para Hermandad Piedad y Estrella
REFRESH-INTERVAL;VALUE=DURATION:PT1H
X-Robots-Tag:noindex
X-PUBLISHED-TTL:PT1H
BEGIN:VTIMEZONE
TZID:Europe/Madrid
BEGIN:DAYLIGHT
TZOFFSETFROM:+0100
TZOFFSETTO:+0200
TZNAME:CEST
DTSTART:20160327T010000
END:DAYLIGHT
BEGIN:STANDARD
TZOFFSETFROM:+0200
TZOFFSETTO:+0100
TZNAME:CET
DTSTART:20161030T010000
END:STANDARD
BEGIN:DAYLIGHT
TZOFFSETFROM:+0100
TZOFFSETTO:+0200
TZNAME:CEST
DTSTART:20170326T010000
END:DAYLIGHT
BEGIN:STANDARD
TZOFFSETFROM:+0200
TZOFFSETTO:+0100
TZNAME:CET
DTSTART:20171029T010000
END:STANDARD
BEGIN:DAYLIGHT
TZOFFSETFROM:+0100
TZOFFSETTO:+0200
TZNAME:CEST
DTSTART:20180325T010000
END:DAYLIGHT
BEGIN:STANDARD
TZOFFSETFROM:+0200
TZOFFSETTO:+0100
TZNAME:CET
DTSTART:20181028T010000
END:STANDARD
END:VTIMEZONE
BEGIN:VEVENT
DTSTART;TZID=Europe/Madrid:20171126T100000
DTEND;TZID=Europe/Madrid:20171126T123000
DTSTAMP:20260422T122641
CREATED:20171122T082337Z
LAST-MODIFIED:20171122T083049Z
UID:5161-1511690400-1511699400@piedadyestrella.es
SUMMARY:XXIX Encuentro Diocesano de Cofradías y Hermandades de la Diócesis de Jaén
DESCRIPTION:Actos del XXIX ENCUENTRO DIOCESANO DE COFRADÍAS Y HERMANDES DE LA DIÓCESIS DE JAÉN a celebrar todos en el Seminario Diocesano \n-9.30 a 10.30: Acogida e Inscripción en el Encuentro. \n-10\,30: Santa Misa presidida por el Sr. Obispo. \n-11.30: Exhortación por parte del Sr. Obispo; \nPresentación del Plan Diocesano de Pastoral a cargo del Ilmo. Sr. Vicario de Culto\, Espiritualidad\, y Vocaciones\, D. Raul Contreras Moreno. \nPresentación del Proyecto de Pastoral para las cofradías y Hermandades\, para el curso 17-18 y otras comunicaciones del Sr. Delegado Episcopal de Cofradías y Hermandades. \nEL SR. OBISPO OS INVITA A TODOS LOS COFRADES EN GENERAL\, Y ANIMA DE UNA FORMA ESPECIAL A LAS JUNTAS DIRECTIVAS\, A PARTICIPAR EN ESTE ENCUENTRO\, PONIENDO TAMBIÉN VUESTRAS ORACIONES POR NUESTRA DIÓCESIS ANTE VUESTROS TITULARES.
URL:https://piedadyestrella.es/evento/xxix-encuentro-diocesano-de-cofradias-y-hermandades-de-la-diocesis-de-jaen/
LOCATION:seminario diocesano\, Calle Juan Montilla\, 1\, JAEN\, JAEN\, 23001\, España
END:VEVENT
END:VCALENDAR