BEGIN:VCALENDAR
VERSION:2.0
PRODID:-//Hermandad Piedad y Estrella - ECPv6.15.20//NONSGML v1.0//EN
CALSCALE:GREGORIAN
METHOD:PUBLISH
X-WR-CALNAME:Hermandad Piedad y Estrella
X-ORIGINAL-URL:https://piedadyestrella.es
X-WR-CALDESC:Eventos para Hermandad Piedad y Estrella
REFRESH-INTERVAL;VALUE=DURATION:PT1H
X-Robots-Tag:noindex
X-PUBLISHED-TTL:PT1H
BEGIN:VTIMEZONE
TZID:Europe/Madrid
BEGIN:DAYLIGHT
TZOFFSETFROM:+0100
TZOFFSETTO:+0200
TZNAME:CEST
DTSTART:20160327T010000
END:DAYLIGHT
BEGIN:STANDARD
TZOFFSETFROM:+0200
TZOFFSETTO:+0100
TZNAME:CET
DTSTART:20161030T010000
END:STANDARD
BEGIN:DAYLIGHT
TZOFFSETFROM:+0100
TZOFFSETTO:+0200
TZNAME:CEST
DTSTART:20170326T010000
END:DAYLIGHT
BEGIN:STANDARD
TZOFFSETFROM:+0200
TZOFFSETTO:+0100
TZNAME:CET
DTSTART:20171029T010000
END:STANDARD
BEGIN:DAYLIGHT
TZOFFSETFROM:+0100
TZOFFSETTO:+0200
TZNAME:CEST
DTSTART:20180325T010000
END:DAYLIGHT
BEGIN:STANDARD
TZOFFSETFROM:+0200
TZOFFSETTO:+0100
TZNAME:CET
DTSTART:20181028T010000
END:STANDARD
END:VTIMEZONE
BEGIN:VEVENT
DTSTART;TZID=Europe/Madrid:20171223T200000
DTEND;TZID=Europe/Madrid:20171223T230000
DTSTAMP:20260422T122635
CREATED:20171210T202844Z
LAST-MODIFIED:20171210T203711Z
UID:5228-1514059200-1514070000@piedadyestrella.es
SUMMARY:Zambombada 2017 “La Estrella”
DESCRIPTION:
URL:https://piedadyestrella.es/evento/zambombada-2017-la-estrella/
LOCATION:Local de Ensayo de la A.M. La Estrella\, Poligono Industrial Quiebracantaros\, 23001 Jaén\, JAEN\, JAEN\, 23009\, España
ATTACH;FMTTYPE=image/jpeg:https://piedadyestrella.es/wp-content/uploads/2017/12/DQNW_r3X0AAqdGe.jpg
END:VEVENT
END:VCALENDAR