BEGIN:VCALENDAR
VERSION:2.0
PRODID:-//Hermandad Piedad y Estrella - ECPv6.15.20//NONSGML v1.0//EN
CALSCALE:GREGORIAN
METHOD:PUBLISH
X-WR-CALNAME:Hermandad Piedad y Estrella
X-ORIGINAL-URL:https://piedadyestrella.es
X-WR-CALDESC:Eventos para Hermandad Piedad y Estrella
REFRESH-INTERVAL;VALUE=DURATION:PT1H
X-Robots-Tag:noindex
X-PUBLISHED-TTL:PT1H
BEGIN:VTIMEZONE
TZID:Europe/Madrid
BEGIN:DAYLIGHT
TZOFFSETFROM:+0100
TZOFFSETTO:+0200
TZNAME:CEST
DTSTART:20170326T010000
END:DAYLIGHT
BEGIN:STANDARD
TZOFFSETFROM:+0200
TZOFFSETTO:+0100
TZNAME:CET
DTSTART:20171029T010000
END:STANDARD
BEGIN:DAYLIGHT
TZOFFSETFROM:+0100
TZOFFSETTO:+0200
TZNAME:CEST
DTSTART:20180325T010000
END:DAYLIGHT
BEGIN:STANDARD
TZOFFSETFROM:+0200
TZOFFSETTO:+0100
TZNAME:CET
DTSTART:20181028T010000
END:STANDARD
BEGIN:DAYLIGHT
TZOFFSETFROM:+0100
TZOFFSETTO:+0200
TZNAME:CEST
DTSTART:20190331T010000
END:DAYLIGHT
BEGIN:STANDARD
TZOFFSETFROM:+0200
TZOFFSETTO:+0100
TZNAME:CET
DTSTART:20191027T010000
END:STANDARD
END:VTIMEZONE
BEGIN:VEVENT
DTSTART;TZID=Europe/Madrid:20180202T180000
DTEND;TZID=Europe/Madrid:20180202T200000
DTSTAMP:20260422T135300
CREATED:20180106T195040Z
LAST-MODIFIED:20180129T204033Z
UID:5256-1517594400-1517601600@piedadyestrella.es
SUMMARY:Chocolatada solidaria
DESCRIPTION:
URL:https://piedadyestrella.es/evento/chocolatada-solidaria/
LOCATION:Casa de Hermandad\, Plaza Purisima Concepción\, Jaén\, Jaén\, 23002\, España
END:VEVENT
BEGIN:VEVENT
DTSTART;TZID=Europe/Madrid:20180202T200000
DTEND;TZID=Europe/Madrid:20180202T210000
DTSTAMP:20260422T135300
CREATED:20180106T194941Z
LAST-MODIFIED:20180129T204113Z
UID:5254-1517601600-1517605200@piedadyestrella.es
SUMMARY:Festividad de la Candelaria
DESCRIPTION:
URL:https://piedadyestrella.es/evento/festividad-de-la-candelaria/
END:VEVENT
BEGIN:VEVENT
DTSTART;TZID=Europe/Madrid:20180202T210000
DTEND;TZID=Europe/Madrid:20180202T230000
DTSTAMP:20260422T135300
CREATED:20180106T200822Z
LAST-MODIFIED:20180106T200822Z
UID:5276-1517605200-1517612400@piedadyestrella.es
SUMMARY:Ensayo del Misterio 02/02/2018
DESCRIPTION:
URL:https://piedadyestrella.es/evento/ensayo-del-misterio-02-02-2018/
LOCATION:Casa de Hermandad\, Plaza Purisima Concepción\, Jaén\, Jaén\, 23002\, España
END:VEVENT
END:VCALENDAR