BEGIN:VCALENDAR
VERSION:2.0
PRODID:-//Hermandad Piedad y Estrella - ECPv6.15.20//NONSGML v1.0//EN
CALSCALE:GREGORIAN
METHOD:PUBLISH
X-ORIGINAL-URL:https://piedadyestrella.es
X-WR-CALDESC:Eventos para Hermandad Piedad y Estrella
REFRESH-INTERVAL;VALUE=DURATION:PT1H
X-Robots-Tag:noindex
X-PUBLISHED-TTL:PT1H
BEGIN:VTIMEZONE
TZID:Europe/Madrid
BEGIN:DAYLIGHT
TZOFFSETFROM:+0100
TZOFFSETTO:+0200
TZNAME:CEST
DTSTART:20170326T010000
END:DAYLIGHT
BEGIN:STANDARD
TZOFFSETFROM:+0200
TZOFFSETTO:+0100
TZNAME:CET
DTSTART:20171029T010000
END:STANDARD
BEGIN:DAYLIGHT
TZOFFSETFROM:+0100
TZOFFSETTO:+0200
TZNAME:CEST
DTSTART:20180325T010000
END:DAYLIGHT
BEGIN:STANDARD
TZOFFSETFROM:+0200
TZOFFSETTO:+0100
TZNAME:CET
DTSTART:20181028T010000
END:STANDARD
BEGIN:DAYLIGHT
TZOFFSETFROM:+0100
TZOFFSETTO:+0200
TZNAME:CEST
DTSTART:20190331T010000
END:DAYLIGHT
BEGIN:STANDARD
TZOFFSETFROM:+0200
TZOFFSETTO:+0100
TZNAME:CET
DTSTART:20191027T010000
END:STANDARD
END:VTIMEZONE
BEGIN:VEVENT
DTSTART;TZID=Europe/Madrid:20180215T210000
DTEND;TZID=Europe/Madrid:20180215T220000
DTSTAMP:20260422T173252
CREATED:20180129T081301Z
LAST-MODIFIED:20180129T082059Z
UID:5382-1518728400-1518732000@piedadyestrella.es
SUMMARY:Agrupación de Cofradías. Presentación del Pasión y Gloria 35
DESCRIPTION:
URL:https://piedadyestrella.es/evento/agrupacion-de-cofradias-presentacion-del-pasion-y-gloria-35/
LOCATION:Teatro Darymelia\, Calle Colón\, Jaen\, Jaen\, 23001\, España
END:VEVENT
END:VCALENDAR