BEGIN:VCALENDAR
VERSION:2.0
PRODID:-//Hermandad Piedad y Estrella - ECPv6.15.20//NONSGML v1.0//EN
CALSCALE:GREGORIAN
METHOD:PUBLISH
X-ORIGINAL-URL:https://piedadyestrella.es
X-WR-CALDESC:Eventos para Hermandad Piedad y Estrella
REFRESH-INTERVAL;VALUE=DURATION:PT1H
X-Robots-Tag:noindex
X-PUBLISHED-TTL:PT1H
BEGIN:VTIMEZONE
TZID:Europe/Madrid
BEGIN:DAYLIGHT
TZOFFSETFROM:+0100
TZOFFSETTO:+0200
TZNAME:CEST
DTSTART:20170326T010000
END:DAYLIGHT
BEGIN:STANDARD
TZOFFSETFROM:+0200
TZOFFSETTO:+0100
TZNAME:CET
DTSTART:20171029T010000
END:STANDARD
BEGIN:DAYLIGHT
TZOFFSETFROM:+0100
TZOFFSETTO:+0200
TZNAME:CEST
DTSTART:20180325T010000
END:DAYLIGHT
BEGIN:STANDARD
TZOFFSETFROM:+0200
TZOFFSETTO:+0100
TZNAME:CET
DTSTART:20181028T010000
END:STANDARD
BEGIN:DAYLIGHT
TZOFFSETFROM:+0100
TZOFFSETTO:+0200
TZNAME:CEST
DTSTART:20190331T010000
END:DAYLIGHT
BEGIN:STANDARD
TZOFFSETFROM:+0200
TZOFFSETTO:+0100
TZNAME:CET
DTSTART:20191027T010000
END:STANDARD
END:VTIMEZONE
BEGIN:VEVENT
DTSTART;TZID=Europe/Madrid:20180412T203000
DTEND;TZID=Europe/Madrid:20180412T213000
DTSTAMP:20260423T042843
CREATED:20180402T081655Z
LAST-MODIFIED:20180402T081655Z
UID:5539-1523565000-1523568600@piedadyestrella.es
SUMMARY:Presentación del Cartel de Gloria 2018
DESCRIPTION:
URL:https://piedadyestrella.es/evento/presentacion-del-cartel-de-gloria-2018/
LOCATION:Agrupación de Cofradías de Jaén\, Bernardo Lopez \, Jaén\, Jaén\, 23001\, España
END:VEVENT
BEGIN:VEVENT
DTSTART;TZID=Europe/Madrid:20180412T210000
DTEND;TZID=Europe/Madrid:20180412T220000
DTSTAMP:20260423T042843
CREATED:20180403T072552Z
LAST-MODIFIED:20180403T072552Z
UID:5555-1523566800-1523570400@piedadyestrella.es
SUMMARY:Reunión informativa Agrupación Musical Juvenil Estrella
DESCRIPTION:
URL:https://piedadyestrella.es/evento/reunion-informativa-agrupacion-musical-juvenil-estrella/
LOCATION:Casa de Hermandad\, Plaza Purisima Concepción\, Jaén\, Jaén\, 23002\, España
END:VEVENT
END:VCALENDAR