BEGIN:VCALENDAR
VERSION:2.0
PRODID:-//Hermandad Piedad y Estrella - ECPv6.15.20//NONSGML v1.0//EN
CALSCALE:GREGORIAN
METHOD:PUBLISH
X-WR-CALNAME:Hermandad Piedad y Estrella
X-ORIGINAL-URL:https://piedadyestrella.es
X-WR-CALDESC:Eventos para Hermandad Piedad y Estrella
REFRESH-INTERVAL;VALUE=DURATION:PT1H
X-Robots-Tag:noindex
X-PUBLISHED-TTL:PT1H
BEGIN:VTIMEZONE
TZID:Europe/Madrid
BEGIN:DAYLIGHT
TZOFFSETFROM:+0100
TZOFFSETTO:+0200
TZNAME:CEST
DTSTART:20250330T010000
END:DAYLIGHT
BEGIN:STANDARD
TZOFFSETFROM:+0200
TZOFFSETTO:+0100
TZNAME:CET
DTSTART:20251026T010000
END:STANDARD
BEGIN:DAYLIGHT
TZOFFSETFROM:+0100
TZOFFSETTO:+0200
TZNAME:CEST
DTSTART:20260329T010000
END:DAYLIGHT
BEGIN:STANDARD
TZOFFSETFROM:+0200
TZOFFSETTO:+0100
TZNAME:CET
DTSTART:20261025T010000
END:STANDARD
BEGIN:DAYLIGHT
TZOFFSETFROM:+0100
TZOFFSETTO:+0200
TZNAME:CEST
DTSTART:20270328T010000
END:DAYLIGHT
BEGIN:STANDARD
TZOFFSETFROM:+0200
TZOFFSETTO:+0100
TZNAME:CET
DTSTART:20271031T010000
END:STANDARD
END:VTIMEZONE
BEGIN:VEVENT
DTSTART;VALUE=DATE:20260501
DTEND;VALUE=DATE:20260504
DTSTAMP:20260425T170607
CREATED:20260413T075338Z
LAST-MODIFIED:20260421T075300Z
UID:11453-1777593600-1777852799@piedadyestrella.es
SUMMARY:Cruz de Mayo Piedad y Estrella
DESCRIPTION:
URL:https://piedadyestrella.es/evento/cruz-de-mayo-piedad-y-estrella-2/
CATEGORIES:Eventos
ATTACH;FMTTYPE=image/jpeg:https://piedadyestrella.es/wp-content/uploads/2026/04/cruz-de-mayo-2026.jpg
END:VEVENT
BEGIN:VEVENT
DTSTART;TZID=Europe/Madrid:20260503T120000
DTEND;TZID=Europe/Madrid:20260503T133000
DTSTAMP:20260425T170607
CREATED:20260413T075636Z
LAST-MODIFIED:20260413T075636Z
UID:11457-1777809600-1777815000@piedadyestrella.es
SUMMARY:Fiesta de la Rosa
DESCRIPTION:
URL:https://piedadyestrella.es/evento/fiesta-de-la-rosa-9/
CATEGORIES:Eventos
END:VEVENT
BEGIN:VEVENT
DTSTART;TZID=Europe/Madrid:20260516T190000
DTEND;TZID=Europe/Madrid:20260516T213000
DTSTAMP:20260425T170607
CREATED:20260413T075537Z
LAST-MODIFIED:20260413T075537Z
UID:11455-1778958000-1778967000@piedadyestrella.es
SUMMARY:Misa de Hermandad y Rosario Vespertino con María Stma. de la Estrella
DESCRIPTION:La celebración de la Misa dará comienzo a las 19 horas. A su finalización\, iniciaremos el rezo del Santo Rosario por las calles del barrio de la Alcantarilla acompañados por María Santísima de la Estrella. \nItinerario del Rosario Vespertino: Ntro. Padre Jesús de la Piedad\, Pilar de la Imprenta\, Callejón Pilar de la Imprenta\, García Requena\, Carrera de Jesús\, Julio Ángel\, Francisco Coello\, García Requena\, Pilar de la Imprenta\, Ntro. Padre Jesús de la Piedad\, Plaza de la Purísima Concepción\, a su Iglesia \n 
URL:https://piedadyestrella.es/evento/misa-de-hermandad-y-rosario-vespertino-con-maria-stma-de-la-estrella/
CATEGORIES:Eventos
END:VEVENT
BEGIN:VEVENT
DTSTART;TZID=Europe/Madrid:20260531T120000
DTEND;TZID=Europe/Madrid:20260531T133000
DTSTAMP:20260425T170607
CREATED:20260413T075735Z
LAST-MODIFIED:20260413T075735Z
UID:11459-1780228800-1780234200@piedadyestrella.es
SUMMARY:Fiesta de Estatutos en Honor a Nuestro Padre Jesús de la Piedad y Función Principal de Instituto
DESCRIPTION:
URL:https://piedadyestrella.es/evento/fiesta-de-estatutos-en-honor-a-nuestro-padre-jesus-de-la-piedad-y-funcion-principal-de-instituto-2/
CATEGORIES:Eventos
END:VEVENT
END:VCALENDAR