BEGIN:VCALENDAR
VERSION:2.0
PRODID:-//Hermandad Piedad y Estrella - ECPv6.15.20//NONSGML v1.0//EN
CALSCALE:GREGORIAN
METHOD:PUBLISH
X-ORIGINAL-URL:https://piedadyestrella.es
X-WR-CALDESC:Eventos para Hermandad Piedad y Estrella
REFRESH-INTERVAL;VALUE=DURATION:PT1H
X-Robots-Tag:noindex
X-PUBLISHED-TTL:PT1H
BEGIN:VTIMEZONE
TZID:Europe/Madrid
BEGIN:DAYLIGHT
TZOFFSETFROM:+0100
TZOFFSETTO:+0200
TZNAME:CEST
DTSTART:20180325T010000
END:DAYLIGHT
BEGIN:STANDARD
TZOFFSETFROM:+0200
TZOFFSETTO:+0100
TZNAME:CET
DTSTART:20181028T010000
END:STANDARD
BEGIN:DAYLIGHT
TZOFFSETFROM:+0100
TZOFFSETTO:+0200
TZNAME:CEST
DTSTART:20190331T010000
END:DAYLIGHT
BEGIN:STANDARD
TZOFFSETFROM:+0200
TZOFFSETTO:+0100
TZNAME:CET
DTSTART:20191027T010000
END:STANDARD
BEGIN:DAYLIGHT
TZOFFSETFROM:+0100
TZOFFSETTO:+0200
TZNAME:CEST
DTSTART:20200329T010000
END:DAYLIGHT
BEGIN:STANDARD
TZOFFSETFROM:+0200
TZOFFSETTO:+0100
TZNAME:CET
DTSTART:20201025T010000
END:STANDARD
END:VTIMEZONE
BEGIN:VEVENT
DTSTART;TZID=Europe/Madrid:20190503T210000
DTEND;TZID=Europe/Madrid:20190503T213000
DTSTAMP:20260422T173859
CREATED:20190430T152041Z
LAST-MODIFIED:20190430T152041Z
UID:6466-1556917200-1556919000@piedadyestrella.es
SUMMARY:Bendición del azulejo de Ntra. Sra. del Rosario
DESCRIPTION:
URL:https://piedadyestrella.es/evento/bendicion-del-azulejo-de-ntra-sra-del-rosario/
LOCATION:Casa de Hermandad\, Plaza Purisima Concepción\, Jaén\, Jaén\, 23002\, España
END:VEVENT
BEGIN:VEVENT
DTSTART;TZID=Europe/Madrid:20190503T180000
DTEND;TZID=Europe/Madrid:20190505T170000
DTSTAMP:20260422T173859
CREATED:20181030T091337Z
LAST-MODIFIED:20181030T091337Z
UID:6002-1556906400-1557075600@piedadyestrella.es
SUMMARY:Cruz de mayo
DESCRIPTION:
URL:https://piedadyestrella.es/evento/cruz-de-mayo/
LOCATION:Casa de Hermandad\, Plaza Purisima Concepción\, Jaén\, Jaén\, 23002\, España
END:VEVENT
BEGIN:VEVENT
DTSTART;TZID=Europe/Madrid:20190502T210000
DTEND;TZID=Europe/Madrid:20190502T220000
DTSTAMP:20260422T173859
CREATED:20181026T081703Z
LAST-MODIFIED:20181026T081703Z
UID:5923-1556830800-1556834400@piedadyestrella.es
SUMMARY:PRESENTACIÓN DEL CARTEL DEL TIEMPO DE GLORIA 2019
DESCRIPTION:* PRESENTADOR DEL CARTEL: RVDO. SR. D. ILDEFONSO RUEDA JANDULA. \n* AUTOR DEL CARTEL: D. RICARDO RUIZ NICAS. \n* IMAGEN: CRISTO DE CHIRCALES.
URL:https://piedadyestrella.es/evento/presentacion-del-cartel-del-tiempo-de-gloria-2019/
LOCATION:Agrupación de Cofradías de Jaén\, Bernardo Lopez \, Jaén\, Jaén\, 23001\, España
END:VEVENT
BEGIN:VEVENT
DTSTART;TZID=Europe/Madrid:20190502T190000
DTEND;TZID=Europe/Madrid:20190502T213000
DTSTAMP:20260422T173859
CREATED:20181030T093416Z
LAST-MODIFIED:20190315T131136Z
UID:6028-1556823600-1556832600@piedadyestrella.es
SUMMARY:Devolución de las túnicas de hermano de luz. Día 3
DESCRIPTION:
URL:https://piedadyestrella.es/evento/devolucion-de-las-tunicas-de-hermano-de-luz-dia-3/
LOCATION:Casa de Hermandad\, Plaza Purisima Concepción\, Jaén\, Jaén\, 23002\, España
END:VEVENT
BEGIN:VEVENT
DTSTART;TZID=Europe/Madrid:20190430T190000
DTEND;TZID=Europe/Madrid:20190430T213000
DTSTAMP:20260422T173859
CREATED:20181030T093343Z
LAST-MODIFIED:20190315T131105Z
UID:6026-1556650800-1556659800@piedadyestrella.es
SUMMARY:Devolución de las túnicas de hermano de luz. Día 2
DESCRIPTION:
URL:https://piedadyestrella.es/evento/devolucion-de-las-tunicas-de-hermano-de-luz-dia-2/
LOCATION:Casa de Hermandad\, Plaza Purisima Concepción\, Jaén\, Jaén\, 23002\, España
END:VEVENT
BEGIN:VEVENT
DTSTART;TZID=Europe/Madrid:20190429T190000
DTEND;TZID=Europe/Madrid:20190429T213000
DTSTAMP:20260422T173859
CREATED:20181030T093309Z
LAST-MODIFIED:20190315T131039Z
UID:6024-1556564400-1556573400@piedadyestrella.es
SUMMARY:Devolución de las túnicas de hermano de luz
DESCRIPTION:
URL:https://piedadyestrella.es/evento/devolucion-de-las-tunicas-de-hermano-de-luz/
LOCATION:Casa de Hermandad\, Plaza Purisima Concepción\, Jaén\, Jaén\, 23002\, España
END:VEVENT
BEGIN:VEVENT
DTSTART;TZID=Europe/Madrid:20190420T213000
DTEND;TZID=Europe/Madrid:20190420T223000
DTSTAMP:20260422T173859
CREATED:20181030T091219Z
LAST-MODIFIED:20190417T074416Z
UID:6000-1555795800-1555799400@piedadyestrella.es
SUMMARY:Solemne Vigilia Pascual
DESCRIPTION:
URL:https://piedadyestrella.es/evento/solemne-vigilia-pascual-3/
LOCATION:Iglesia de la Purísima Concepción\, Plaza de la Purísima Concepción\, junto a la Calle Pilar de la Imprenta\, Jaén\, Jaén\, 23001\, España
END:VEVENT
BEGIN:VEVENT
DTSTART;TZID=Europe/Madrid:20190419T170000
DTEND;TZID=Europe/Madrid:20190419T180000
DTSTAMP:20260422T173859
CREATED:20181030T091108Z
LAST-MODIFIED:20181030T091136Z
UID:5998-1555693200-1555696800@piedadyestrella.es
SUMMARY:Viernes Santo – A. Liturgica Pasión y Muerte de Jesucristo
DESCRIPTION:
URL:https://piedadyestrella.es/evento/viernes-santo-a-liturgica-pasion-y-muerte-de-jesucristo/
LOCATION:Iglesia de la Purísima Concepción\, Plaza de la Purísima Concepción\, junto a la Calle Pilar de la Imprenta\, Jaén\, Jaén\, 23001\, España
END:VEVENT
BEGIN:VEVENT
DTSTART;TZID=Europe/Madrid:20190418T190000
DTEND;TZID=Europe/Madrid:20190418T200000
DTSTAMP:20260422T173859
CREATED:20181030T091028Z
LAST-MODIFIED:20181030T091028Z
UID:5996-1555614000-1555617600@piedadyestrella.es
SUMMARY:Jueves Santo - Santos Oficios
DESCRIPTION:
URL:https://piedadyestrella.es/evento/jueves-santo-santos-oficios-2/
LOCATION:Iglesia de la Purísima Concepción\, Plaza de la Purísima Concepción\, junto a la Calle Pilar de la Imprenta\, Jaén\, Jaén\, 23001\, España
END:VEVENT
BEGIN:VEVENT
DTSTART;TZID=Europe/Madrid:20190414T163000
DTEND;TZID=Europe/Madrid:20190414T233000
DTSTAMP:20260422T173859
CREATED:20181030T090945Z
LAST-MODIFIED:20181030T090945Z
UID:5994-1555259400-1555284600@piedadyestrella.es
SUMMARY:Estación de Penitencia
DESCRIPTION:
URL:https://piedadyestrella.es/evento/estacion-de-penitencia-4/
LOCATION:Casa de Hermandad\, Plaza Purisima Concepción\, Jaén\, Jaén\, 23002\, España
END:VEVENT
BEGIN:VEVENT
DTSTART;TZID=Europe/Madrid:20190414T100000
DTEND;TZID=Europe/Madrid:20190414T113000
DTSTAMP:20260422T173859
CREATED:20181030T090856Z
LAST-MODIFIED:20181030T090906Z
UID:5992-1555236000-1555241400@piedadyestrella.es
SUMMARY:Eucaristía preparatoria para la Estación de Penitencia
DESCRIPTION:
URL:https://piedadyestrella.es/evento/eucaristia-preparatoria-para-la-estacion-de-penitencia-2/
LOCATION:Iglesia de la Purísima Concepción\, Plaza de la Purísima Concepción\, junto a la Calle Pilar de la Imprenta\, Jaén\, Jaén\, 23001\, España
END:VEVENT
BEGIN:VEVENT
DTSTART;TZID=Europe/Madrid:20190413T180000
DTEND;TZID=Europe/Madrid:20190413T210000
DTSTAMP:20260422T173859
CREATED:20181030T090807Z
LAST-MODIFIED:20190408T152816Z
UID:5990-1555178400-1555189200@piedadyestrella.es
SUMMARY:Exposición de pasos
DESCRIPTION:
URL:https://piedadyestrella.es/evento/exposicion-de-pasos-4/
LOCATION:Casa de Hermandad\, Plaza Purisima Concepción\, Jaén\, Jaén\, 23002\, España
END:VEVENT
BEGIN:VEVENT
DTSTART;TZID=Europe/Madrid:20190412T210000
DTEND;TZID=Europe/Madrid:20190412T220000
DTSTAMP:20260422T173859
CREATED:20181030T090724Z
LAST-MODIFIED:20181030T090724Z
UID:5988-1555102800-1555106400@piedadyestrella.es
SUMMARY:Retranqueo de los pasos
DESCRIPTION:
URL:https://piedadyestrella.es/evento/retranqueo-de-los-pasos-3/
LOCATION:Casa de Hermandad\, Plaza Purisima Concepción\, Jaén\, Jaén\, 23002\, España
END:VEVENT
BEGIN:VEVENT
DTSTART;TZID=Europe/Madrid:20190411T204500
DTEND;TZID=Europe/Madrid:20190411T220000
DTSTAMP:20260422T173859
CREATED:20181030T090640Z
LAST-MODIFIED:20181030T090640Z
UID:5986-1555015500-1555020000@piedadyestrella.es
SUMMARY:Solemne Vía-Crucis de Ntro. Padre Jesús de la Piedad
DESCRIPTION:
URL:https://piedadyestrella.es/evento/solemne-via-crucis-de-ntro-padre-jesus-de-la-piedad-2/
LOCATION:Iglesia de la Purísima Concepción\, Plaza de la Purísima Concepción\, junto a la Calle Pilar de la Imprenta\, Jaén\, Jaén\, 23001\, España
END:VEVENT
BEGIN:VEVENT
DTSTART;TZID=Europe/Madrid:20190410T213000
DTEND;TZID=Europe/Madrid:20190410T220000
DTSTAMP:20260422T173859
CREATED:20181030T090542Z
LAST-MODIFIED:20181030T090542Z
UID:5984-1554931800-1554933600@piedadyestrella.es
SUMMARY:Traslado de la Virgen de nuestra Capilla a la Casa de Hermandad
DESCRIPTION:
URL:https://piedadyestrella.es/evento/traslado-de-la-virgen-de-nuestra-capilla-a-la-casa-de-hermandad/
LOCATION:Iglesia de la Purísima Concepción\, Plaza de la Purísima Concepción\, junto a la Calle Pilar de la Imprenta\, Jaén\, Jaén\, 23001\, España
END:VEVENT
BEGIN:VEVENT
DTSTART;TZID=Europe/Madrid:20190407T173000
DTEND;TZID=Europe/Madrid:20190407T210000
DTSTAMP:20260422T173859
CREATED:20181030T090358Z
LAST-MODIFIED:20181030T090358Z
UID:5980-1554658200-1554670800@piedadyestrella.es
SUMMARY:Elecciones para Junta Directiva
DESCRIPTION:
URL:https://piedadyestrella.es/evento/elecciones-para-junta-directiva/
LOCATION:Casa de Hermandad\, Plaza Purisima Concepción\, Jaén\, Jaén\, 23002\, España
END:VEVENT
BEGIN:VEVENT
DTSTART;TZID=Europe/Madrid:20190407T170000
DTEND;TZID=Europe/Madrid:20190407T210000
DTSTAMP:20260422T173859
CREATED:20181030T090447Z
LAST-MODIFIED:20181030T090447Z
UID:5982-1554656400-1554670800@piedadyestrella.es
SUMMARY:Recogida papeletas de sitio
DESCRIPTION:
URL:https://piedadyestrella.es/evento/recogida-papeletas-de-sitio/
LOCATION:Casa de Hermandad\, Plaza Purisima Concepción\, Jaén\, Jaén\, 23002\, España
END:VEVENT
BEGIN:VEVENT
DTSTART;TZID=Europe/Madrid:20190407T120000
DTEND;TZID=Europe/Madrid:20190407T140000
DTSTAMP:20260422T173859
CREATED:20181026T081554Z
LAST-MODIFIED:20181026T081554Z
UID:5921-1554638400-1554645600@piedadyestrella.es
SUMMARY:PREGÓN DE LA SEMANA SANTA 2019
DESCRIPTION:* PREGONERO: D. FRANCISCO JAVIER ALCANTARA ARMENTEROS. \n* PRESENTADOR: D. JUAN FRANCISCO RAMIREZ MOLINA.
URL:https://piedadyestrella.es/evento/pregon-de-la-semana-santa-2019/
LOCATION:Teatro Infanta Leonor\, Molino de la Condesa s/n\, Jaén\, Jaén\, 23004\, España
END:VEVENT
BEGIN:VEVENT
DTSTART;TZID=Europe/Madrid:20190405T210000
DTEND;TZID=Europe/Madrid:20190405T230000
DTSTAMP:20260422T173859
CREATED:20181121T080843Z
LAST-MODIFIED:20181121T080843Z
UID:6076-1554498000-1554505200@piedadyestrella.es
SUMMARY:Ensayo conjunto Paso Misterio y de Palio
DESCRIPTION:
URL:https://piedadyestrella.es/evento/ensayo-conjunto-paso-misterio-y-de-palio/
LOCATION:Casa de Hermandad\, Plaza Purisima Concepción\, Jaén\, Jaén\, 23002\, España
END:VEVENT
BEGIN:VEVENT
DTSTART;TZID=Europe/Madrid:20190331T120000
DTEND;TZID=Europe/Madrid:20190331T210000
DTSTAMP:20260422T173859
CREATED:20181030T090119Z
LAST-MODIFIED:20190325T080028Z
UID:5978-1554033600-1554066000@piedadyestrella.es
SUMMARY:Devoto Besapie a Ntro. Padre Jesús de la Piedad y Besamanos a María Santísima de la Estrella
DESCRIPTION:
URL:https://piedadyestrella.es/evento/devoto-besapie-a-ntro-padre-jesus-de-la-piedad-y-besamanos-a-maria-santisima-de-la-estrella/
LOCATION:Iglesia de la Purísima Concepción\, Plaza de la Purísima Concepción\, junto a la Calle Pilar de la Imprenta\, Jaén\, Jaén\, 23001\, España
END:VEVENT
BEGIN:VEVENT
DTSTART;TZID=Europe/Madrid:20190329T210000
DTEND;TZID=Europe/Madrid:20190329T230000
DTSTAMP:20260422T173859
CREATED:20181121T081026Z
LAST-MODIFIED:20181121T081026Z
UID:6082-1553893200-1553900400@piedadyestrella.es
SUMMARY:Ensayo Paso Palio
DESCRIPTION:
URL:https://piedadyestrella.es/evento/ensayo-paso-palio-4/
LOCATION:Casa de Hermandad\, Plaza Purisima Concepción\, Jaén\, Jaén\, 23002\, España
END:VEVENT
BEGIN:VEVENT
DTSTART;TZID=Europe/Madrid:20190324T193000
DTEND;TZID=Europe/Madrid:20190324T210000
DTSTAMP:20260422T173859
CREATED:20181030T090033Z
LAST-MODIFIED:20181030T090033Z
UID:5976-1553455800-1553461200@piedadyestrella.es
SUMMARY:Triduo Estatutario en Honor de Nuestro Padre Jesús de la Piedad. Dia 3
DESCRIPTION:
URL:https://piedadyestrella.es/evento/triduo-estatutario-en-honor-de-nuestro-padre-jesus-de-la-piedad-dia-3/
LOCATION:Iglesia de la Purísima Concepción\, Plaza de la Purísima Concepción\, junto a la Calle Pilar de la Imprenta\, Jaén\, Jaén\, 23001\, España
END:VEVENT
BEGIN:VEVENT
DTSTART;TZID=Europe/Madrid:20190323T193000
DTEND;TZID=Europe/Madrid:20190323T210000
DTSTAMP:20260422T173859
CREATED:20181030T090002Z
LAST-MODIFIED:20181030T090002Z
UID:5974-1553369400-1553374800@piedadyestrella.es
SUMMARY:Triduo Estatutario en Honor de Nuestro Padre Jesús de la Piedad. Dia 2
DESCRIPTION:
URL:https://piedadyestrella.es/evento/triduo-estatutario-en-honor-de-nuestro-padre-jesus-de-la-piedad-dia-2/
LOCATION:Iglesia de la Purísima Concepción\, Plaza de la Purísima Concepción\, junto a la Calle Pilar de la Imprenta\, Jaén\, Jaén\, 23001\, España
END:VEVENT
BEGIN:VEVENT
DTSTART;TZID=Europe/Madrid:20190322T193000
DTEND;TZID=Europe/Madrid:20190322T210000
DTSTAMP:20260422T173859
CREATED:20181030T085933Z
LAST-MODIFIED:20181030T085933Z
UID:5972-1553283000-1553288400@piedadyestrella.es
SUMMARY:Triduo Estatutario en Honor de Nuestro Padre Jesús de la Piedad. Dia 1
DESCRIPTION:
URL:https://piedadyestrella.es/evento/triduo-estatutario-en-honor-de-nuestro-padre-jesus-de-la-piedad-dia-1/
LOCATION:Iglesia de la Purísima Concepción\, Plaza de la Purísima Concepción\, junto a la Calle Pilar de la Imprenta\, Jaén\, Jaén\, 23001\, España
END:VEVENT
BEGIN:VEVENT
DTSTART;TZID=Europe/Madrid:20190321T190000
DTEND;TZID=Europe/Madrid:20190321T213000
DTSTAMP:20260422T173859
CREATED:20181030T093200Z
LAST-MODIFIED:20181030T093200Z
UID:6022-1553194800-1553203800@piedadyestrella.es
SUMMARY:Retirada de las túnicas de hermano de luz. Dia 4
DESCRIPTION:
URL:https://piedadyestrella.es/evento/retirada-de-las-tunicas-de-hermano-de-luz-dia-4/
LOCATION:Casa de Hermandad\, Plaza Purisima Concepción\, Jaén\, Jaén\, 23002\, España
END:VEVENT
BEGIN:VEVENT
DTSTART;TZID=Europe/Madrid:20190320T190000
DTEND;TZID=Europe/Madrid:20190320T213000
DTSTAMP:20260422T173859
CREATED:20181030T093127Z
LAST-MODIFIED:20181030T093127Z
UID:6020-1553108400-1553117400@piedadyestrella.es
SUMMARY:Retirada de las túnicas de hermano de luz. Dia 3
DESCRIPTION:
URL:https://piedadyestrella.es/evento/retirada-de-las-tunicas-de-hermano-de-luz-dia-3/
LOCATION:Casa de Hermandad\, Plaza Purisima Concepción\, Jaén\, Jaén\, 23002\, España
END:VEVENT
BEGIN:VEVENT
DTSTART;TZID=Europe/Madrid:20190319T190000
DTEND;TZID=Europe/Madrid:20190319T210000
DTSTAMP:20260422T173859
CREATED:20181030T093048Z
LAST-MODIFIED:20181030T093048Z
UID:6018-1553022000-1553029200@piedadyestrella.es
SUMMARY:Retirada de las túnicas de hermano de luz. Dia 2
DESCRIPTION:
URL:https://piedadyestrella.es/evento/retirada-de-las-tunicas-de-hermano-de-luz-dia-2/
LOCATION:Casa de Hermandad\, Plaza Purisima Concepción\, Jaén\, Jaén\, 23002\, España
END:VEVENT
BEGIN:VEVENT
DTSTART;TZID=Europe/Madrid:20190318T190000
DTEND;TZID=Europe/Madrid:20190318T213000
DTSTAMP:20260422T173859
CREATED:20181030T092956Z
LAST-MODIFIED:20181030T092956Z
UID:6016-1552935600-1552944600@piedadyestrella.es
SUMMARY:Retirada de las túnicas de hermano de luz
DESCRIPTION:
URL:https://piedadyestrella.es/evento/retirada-de-las-tunicas-de-hermano-de-luz/
LOCATION:Casa de Hermandad\, Plaza Purisima Concepción\, Jaén\, Jaén\, 23002\, España
END:VEVENT
BEGIN:VEVENT
DTSTART;TZID=Europe/Madrid:20190317T143000
DTEND;TZID=Europe/Madrid:20190317T170000
DTSTAMP:20260422T173859
CREATED:20190303T122006Z
LAST-MODIFIED:20190303T122006Z
UID:6320-1552833000-1552842000@piedadyestrella.es
SUMMARY:Comida de Hermandad
DESCRIPTION:Al finalizar el pregón todos los hermanos que previamente hayan solicitado asistir nos reuniremos en el restaurante de la Cafetería del antiguo Hospital San Juan de Dios para compartir la comidad de hermandad de este año 2019 y acompañar al pregonero. \nEl precio de la misma será de 35 € por persona y de 20 para los niños
URL:https://piedadyestrella.es/evento/comida-de-hermandad-4/
LOCATION:Hospital San Juan de Dios
END:VEVENT
BEGIN:VEVENT
DTSTART;TZID=Europe/Madrid:20190317T120000
DTEND;TZID=Europe/Madrid:20190317T140000
DTSTAMP:20260422T173859
CREATED:20181030T085824Z
LAST-MODIFIED:20181030T085824Z
UID:5970-1552824000-1552831200@piedadyestrella.es
SUMMARY:XXXVI Pregón de Exaltación a María Santísima de la Estrella
DESCRIPTION:Pregonará D. Diego Montiel Serrano\, que será presentado por la anterior pregonera Dª. Elena Bautista Expósito
URL:https://piedadyestrella.es/evento/xxxvi-pregon-de-exaltacion-a-maria-santisima-de-la-estrella/
LOCATION:Teatro Darymelia\, Calle Colón\, Jaen\, Jaen\, 23001\, España
END:VEVENT
END:VCALENDAR