BEGIN:VCALENDAR
VERSION:2.0
PRODID:-//Hermandad Piedad y Estrella - ECPv6.15.20//NONSGML v1.0//EN
CALSCALE:GREGORIAN
METHOD:PUBLISH
X-ORIGINAL-URL:https://piedadyestrella.es
X-WR-CALDESC:Eventos para Hermandad Piedad y Estrella
REFRESH-INTERVAL;VALUE=DURATION:PT1H
X-Robots-Tag:noindex
X-PUBLISHED-TTL:PT1H
BEGIN:VTIMEZONE
TZID:Europe/Madrid
BEGIN:DAYLIGHT
TZOFFSETFROM:+0100
TZOFFSETTO:+0200
TZNAME:CEST
DTSTART:20180325T010000
END:DAYLIGHT
BEGIN:STANDARD
TZOFFSETFROM:+0200
TZOFFSETTO:+0100
TZNAME:CET
DTSTART:20181028T010000
END:STANDARD
BEGIN:DAYLIGHT
TZOFFSETFROM:+0100
TZOFFSETTO:+0200
TZNAME:CEST
DTSTART:20190331T010000
END:DAYLIGHT
BEGIN:STANDARD
TZOFFSETFROM:+0200
TZOFFSETTO:+0100
TZNAME:CET
DTSTART:20191027T010000
END:STANDARD
BEGIN:DAYLIGHT
TZOFFSETFROM:+0100
TZOFFSETTO:+0200
TZNAME:CEST
DTSTART:20200329T010000
END:DAYLIGHT
BEGIN:STANDARD
TZOFFSETFROM:+0200
TZOFFSETTO:+0100
TZNAME:CET
DTSTART:20201025T010000
END:STANDARD
END:VTIMEZONE
BEGIN:VEVENT
DTSTART;TZID=Europe/Madrid:20190329T210000
DTEND;TZID=Europe/Madrid:20190329T230000
DTSTAMP:20260422T204541
CREATED:20181121T081026Z
LAST-MODIFIED:20181121T081026Z
UID:6082-1553893200-1553900400@piedadyestrella.es
SUMMARY:Ensayo Paso Palio
DESCRIPTION:
URL:https://piedadyestrella.es/evento/ensayo-paso-palio-4/
LOCATION:Casa de Hermandad\, Plaza Purisima Concepción\, Jaén\, Jaén\, 23002\, España
END:VEVENT
BEGIN:VEVENT
DTSTART;TZID=Europe/Madrid:20190324T193000
DTEND;TZID=Europe/Madrid:20190324T210000
DTSTAMP:20260422T204541
CREATED:20181030T090033Z
LAST-MODIFIED:20181030T090033Z
UID:5976-1553455800-1553461200@piedadyestrella.es
SUMMARY:Triduo Estatutario en Honor de Nuestro Padre Jesús de la Piedad. Dia 3
DESCRIPTION:
URL:https://piedadyestrella.es/evento/triduo-estatutario-en-honor-de-nuestro-padre-jesus-de-la-piedad-dia-3/
LOCATION:Iglesia de la Purísima Concepción\, Plaza de la Purísima Concepción\, junto a la Calle Pilar de la Imprenta\, Jaén\, Jaén\, 23001\, España
END:VEVENT
BEGIN:VEVENT
DTSTART;TZID=Europe/Madrid:20190323T193000
DTEND;TZID=Europe/Madrid:20190323T210000
DTSTAMP:20260422T204541
CREATED:20181030T090002Z
LAST-MODIFIED:20181030T090002Z
UID:5974-1553369400-1553374800@piedadyestrella.es
SUMMARY:Triduo Estatutario en Honor de Nuestro Padre Jesús de la Piedad. Dia 2
DESCRIPTION:
URL:https://piedadyestrella.es/evento/triduo-estatutario-en-honor-de-nuestro-padre-jesus-de-la-piedad-dia-2/
LOCATION:Iglesia de la Purísima Concepción\, Plaza de la Purísima Concepción\, junto a la Calle Pilar de la Imprenta\, Jaén\, Jaén\, 23001\, España
END:VEVENT
BEGIN:VEVENT
DTSTART;TZID=Europe/Madrid:20190322T193000
DTEND;TZID=Europe/Madrid:20190322T210000
DTSTAMP:20260422T204541
CREATED:20181030T085933Z
LAST-MODIFIED:20181030T085933Z
UID:5972-1553283000-1553288400@piedadyestrella.es
SUMMARY:Triduo Estatutario en Honor de Nuestro Padre Jesús de la Piedad. Dia 1
DESCRIPTION:
URL:https://piedadyestrella.es/evento/triduo-estatutario-en-honor-de-nuestro-padre-jesus-de-la-piedad-dia-1/
LOCATION:Iglesia de la Purísima Concepción\, Plaza de la Purísima Concepción\, junto a la Calle Pilar de la Imprenta\, Jaén\, Jaén\, 23001\, España
END:VEVENT
BEGIN:VEVENT
DTSTART;TZID=Europe/Madrid:20190321T190000
DTEND;TZID=Europe/Madrid:20190321T213000
DTSTAMP:20260422T204541
CREATED:20181030T093200Z
LAST-MODIFIED:20181030T093200Z
UID:6022-1553194800-1553203800@piedadyestrella.es
SUMMARY:Retirada de las túnicas de hermano de luz. Dia 4
DESCRIPTION:
URL:https://piedadyestrella.es/evento/retirada-de-las-tunicas-de-hermano-de-luz-dia-4/
LOCATION:Casa de Hermandad\, Plaza Purisima Concepción\, Jaén\, Jaén\, 23002\, España
END:VEVENT
BEGIN:VEVENT
DTSTART;TZID=Europe/Madrid:20190320T190000
DTEND;TZID=Europe/Madrid:20190320T213000
DTSTAMP:20260422T204541
CREATED:20181030T093127Z
LAST-MODIFIED:20181030T093127Z
UID:6020-1553108400-1553117400@piedadyestrella.es
SUMMARY:Retirada de las túnicas de hermano de luz. Dia 3
DESCRIPTION:
URL:https://piedadyestrella.es/evento/retirada-de-las-tunicas-de-hermano-de-luz-dia-3/
LOCATION:Casa de Hermandad\, Plaza Purisima Concepción\, Jaén\, Jaén\, 23002\, España
END:VEVENT
BEGIN:VEVENT
DTSTART;TZID=Europe/Madrid:20190319T190000
DTEND;TZID=Europe/Madrid:20190319T210000
DTSTAMP:20260422T204541
CREATED:20181030T093048Z
LAST-MODIFIED:20181030T093048Z
UID:6018-1553022000-1553029200@piedadyestrella.es
SUMMARY:Retirada de las túnicas de hermano de luz. Dia 2
DESCRIPTION:
URL:https://piedadyestrella.es/evento/retirada-de-las-tunicas-de-hermano-de-luz-dia-2/
LOCATION:Casa de Hermandad\, Plaza Purisima Concepción\, Jaén\, Jaén\, 23002\, España
END:VEVENT
BEGIN:VEVENT
DTSTART;TZID=Europe/Madrid:20190318T190000
DTEND;TZID=Europe/Madrid:20190318T213000
DTSTAMP:20260422T204541
CREATED:20181030T092956Z
LAST-MODIFIED:20181030T092956Z
UID:6016-1552935600-1552944600@piedadyestrella.es
SUMMARY:Retirada de las túnicas de hermano de luz
DESCRIPTION:
URL:https://piedadyestrella.es/evento/retirada-de-las-tunicas-de-hermano-de-luz/
LOCATION:Casa de Hermandad\, Plaza Purisima Concepción\, Jaén\, Jaén\, 23002\, España
END:VEVENT
BEGIN:VEVENT
DTSTART;TZID=Europe/Madrid:20190317T143000
DTEND;TZID=Europe/Madrid:20190317T170000
DTSTAMP:20260422T204541
CREATED:20190303T122006Z
LAST-MODIFIED:20190303T122006Z
UID:6320-1552833000-1552842000@piedadyestrella.es
SUMMARY:Comida de Hermandad
DESCRIPTION:Al finalizar el pregón todos los hermanos que previamente hayan solicitado asistir nos reuniremos en el restaurante de la Cafetería del antiguo Hospital San Juan de Dios para compartir la comidad de hermandad de este año 2019 y acompañar al pregonero. \nEl precio de la misma será de 35 € por persona y de 20 para los niños
URL:https://piedadyestrella.es/evento/comida-de-hermandad-4/
LOCATION:Hospital San Juan de Dios
END:VEVENT
BEGIN:VEVENT
DTSTART;TZID=Europe/Madrid:20190317T120000
DTEND;TZID=Europe/Madrid:20190317T140000
DTSTAMP:20260422T204541
CREATED:20181030T085824Z
LAST-MODIFIED:20181030T085824Z
UID:5970-1552824000-1552831200@piedadyestrella.es
SUMMARY:XXXVI Pregón de Exaltación a María Santísima de la Estrella
DESCRIPTION:Pregonará D. Diego Montiel Serrano\, que será presentado por la anterior pregonera Dª. Elena Bautista Expósito
URL:https://piedadyestrella.es/evento/xxxvi-pregon-de-exaltacion-a-maria-santisima-de-la-estrella/
LOCATION:Teatro Darymelia\, Calle Colón\, Jaen\, Jaen\, 23001\, España
END:VEVENT
BEGIN:VEVENT
DTSTART;TZID=Europe/Madrid:20190315T210000
DTEND;TZID=Europe/Madrid:20190315T230000
DTSTAMP:20260422T204541
CREATED:20181121T080746Z
LAST-MODIFIED:20181121T080746Z
UID:6074-1552683600-1552690800@piedadyestrella.es
SUMMARY:Ensayo Paso Misterio
DESCRIPTION:
URL:https://piedadyestrella.es/evento/ensayo-paso-misterio-3/
LOCATION:Casa de Hermandad\, Plaza Purisima Concepción\, Jaén\, Jaén\, 23002\, España
END:VEVENT
BEGIN:VEVENT
DTSTART;TZID=Europe/Madrid:20190314T203000
DTEND;TZID=Europe/Madrid:20190314T213000
DTSTAMP:20260422T204541
CREATED:20190303T122057Z
LAST-MODIFIED:20190313T082100Z
UID:6323-1552595400-1552599000@piedadyestrella.es
SUMMARY:Charla de Formación "La mujer en el Evangelio"
DESCRIPTION:
URL:https://piedadyestrella.es/evento/charla-de-formacion-las-mujeres-en-el-evangelio/
LOCATION:Agrupación de Cofradías de Jaén\, Bernardo Lopez \, Jaén\, Jaén\, 23001\, España
ATTACH;FMTTYPE=image/jpeg:https://piedadyestrella.es/wp-content/uploads/2019/03/WhatsApp-Image-2019-03-03-at-20.14.51.jpeg
END:VEVENT
BEGIN:VEVENT
DTSTART;TZID=Europe/Madrid:20190311T190000
DTEND;TZID=Europe/Madrid:20190312T210000
DTSTAMP:20260422T204541
CREATED:20190304T162431Z
LAST-MODIFIED:20190304T162431Z
UID:6333-1552330800-1552424400@piedadyestrella.es
SUMMARY:Recogida del Boletín 2019 en Casa de Hermandad
DESCRIPTION:
URL:https://piedadyestrella.es/evento/recogida-del-boletin-2019-en-casa-de-hermandad-2/
LOCATION:Casa de Hermandad\, Plaza Purisima Concepción\, Jaén\, Jaén\, 23002\, España
END:VEVENT
BEGIN:VEVENT
DTSTART;TZID=Europe/Madrid:20190309T173000
DTEND;TZID=Europe/Madrid:20190309T200000
DTSTAMP:20260422T204541
CREATED:20181030T085636Z
LAST-MODIFIED:20181030T085636Z
UID:5968-1552152600-1552161600@piedadyestrella.es
SUMMARY:Vigilia de Adoración al Santísimo
DESCRIPTION:A continuación Celebración Eucarística
URL:https://piedadyestrella.es/evento/vigilia-de-adoracion-al-santisimo-2/
LOCATION:Iglesia de la Purísima Concepción\, Plaza de la Purísima Concepción\, junto a la Calle Pilar de la Imprenta\, Jaén\, Jaén\, 23001\, España
END:VEVENT
BEGIN:VEVENT
DTSTART;TZID=Europe/Madrid:20190309T170000
DTEND;TZID=Europe/Madrid:20190309T180000
DTSTAMP:20260422T204541
CREATED:20190304T163751Z
LAST-MODIFIED:20190304T163751Z
UID:6335-1552150800-1552154400@piedadyestrella.es
SUMMARY:La Cruz de la Misión llega a las Dominicas
DESCRIPTION:Salida a las 17:00 h. desde la Parroquia de la Merced hasta la Iglesia Conventual de la Purísima Concepción\, a las 18:00
URL:https://piedadyestrella.es/evento/la-cruz-de-la-mision-llega-a-las-dominicas/
LOCATION:Iglesia de la Merced\, Plaza de la Merced\, Jaén\, JAEN\, 23002\, España
END:VEVENT
BEGIN:VEVENT
DTSTART;TZID=Europe/Madrid:20190308T210000
DTEND;TZID=Europe/Madrid:20190308T230000
DTSTAMP:20260422T204541
CREATED:20181121T080955Z
LAST-MODIFIED:20190303T122150Z
UID:6080-1552078800-1552086000@piedadyestrella.es
SUMMARY:Ensayo Paso Palio
DESCRIPTION:
URL:https://piedadyestrella.es/evento/ensayo-paso-palio-3/
LOCATION:Casa de Hermandad\, Plaza Purisima Concepción\, Jaén\, Jaén\, 23002\, España
END:VEVENT
BEGIN:VEVENT
DTSTART;TZID=Europe/Madrid:20190308T170000
DTEND;TZID=Europe/Madrid:20190308T173000
DTSTAMP:20260422T204541
CREATED:20190304T163853Z
LAST-MODIFIED:20190304T163853Z
UID:6337-1552064400-1552066200@piedadyestrella.es
SUMMARY:La Cruz de la Misión en el Camarín de Jesús
DESCRIPTION:
URL:https://piedadyestrella.es/evento/la-cruz-de-la-mision-en-el-camarin-de-jesus/
LOCATION:Iglesia de la Merced\, Plaza de la Merced\, Jaén\, JAEN\, 23002\, España
END:VEVENT
BEGIN:VEVENT
DTSTART;TZID=Europe/Madrid:20190307T203000
DTEND;TZID=Europe/Madrid:20190307T213000
DTSTAMP:20260422T204541
CREATED:20181026T081421Z
LAST-MODIFIED:20181026T081438Z
UID:5918-1551990600-1551994200@piedadyestrella.es
SUMMARY:PRESENTACIÓN DE LA PUBLICACIÓN DE PASIÓN Y GLORIA
DESCRIPTION:PRESENTADOR: D. ANTONIO CASADO TENDERO
URL:https://piedadyestrella.es/evento/presentacion-de-la-publicacion-de-pasion-y-gloria/
LOCATION:Agrupación de Cofradías de Jaén\, Bernardo Lopez \, Jaén\, Jaén\, 23001\, España
END:VEVENT
BEGIN:VEVENT
DTSTART;TZID=Europe/Madrid:20190306T210000
DTEND;TZID=Europe/Madrid:20190306T223000
DTSTAMP:20260422T204541
CREATED:20190224T075242Z
LAST-MODIFIED:20190224T075242Z
UID:6299-1551906000-1551911400@piedadyestrella.es
SUMMARY:Viacrucis con Jesús de la Piedad
DESCRIPTION:
URL:https://piedadyestrella.es/evento/viacrucis-con-jesus-de-la-piedad/
LOCATION:Santa Iglesia Catedral\, Plaza de Santa María s/n\, Jaén\, Jaén\, 23001\, España
END:VEVENT
BEGIN:VEVENT
DTSTART;TZID=Europe/Madrid:20190306T200000
DTEND;TZID=Europe/Madrid:20190306T210000
DTSTAMP:20260422T204541
CREATED:20181026T081335Z
LAST-MODIFIED:20181026T081335Z
UID:5916-1551902400-1551906000@piedadyestrella.es
SUMMARY:MIÉRCOLES DE CENIZA. EUCARISTIA
DESCRIPTION:* IMAGEN: CRISTO DE LA PIEDAD. \n* OFICIANTE: EXCMO. SR. D. AMADEO RODRIGUEZ MAGRO.
URL:https://piedadyestrella.es/evento/miercoles-de-ceniza-eucaristia/
LOCATION:Santa Iglesia Catedral\, Plaza de Santa María s/n\, Jaén\, Jaén\, 23001\, España
END:VEVENT
BEGIN:VEVENT
DTSTART;TZID=Europe/Madrid:20190306T180000
DTEND;TZID=Europe/Madrid:20190306T193000
DTSTAMP:20260422T204541
CREATED:20190224T075113Z
LAST-MODIFIED:20190224T075113Z
UID:6297-1551895200-1551900600@piedadyestrella.es
SUMMARY:Traslado de Jesús de la Piedad a la S.I.Catedral
DESCRIPTION:
URL:https://piedadyestrella.es/evento/traslado-de-jesus-de-la-piedad-a-la-s-i-catedral/
LOCATION:Iglesia de la Purísima Concepción\, Plaza de la Purísima Concepción\, junto a la Calle Pilar de la Imprenta\, Jaén\, Jaén\, 23001\, España
END:VEVENT
BEGIN:VEVENT
DTSTART;TZID=Europe/Madrid:20190304T203000
DTEND;TZID=Europe/Madrid:20190304T213000
DTSTAMP:20260422T204541
CREATED:20181026T081056Z
LAST-MODIFIED:20190220T083639Z
UID:5913-1551731400-1551735000@piedadyestrella.es
SUMMARY:PRESENTACIÓN DE LA GUÍA DE CULTOS Y ACTOS 2019  DE LA AGRUPACIÓN
DESCRIPTION:PRESENTACIÓN DE LA GUÍA DE CULTOS Y ACTOS DE LA AGRUPACIÓN DE COFRADÍAS Y HERMANDADES PARA LAS COFRADÍAS DE PASIÓN DE 2019 \n* PRESENTADOR: D. DIEGO MONTIEL SERRANO.
URL:https://piedadyestrella.es/evento/presentacion-de-la-guia-de-cultos-y-actos-2019-de-la-agrupacion-y-del-sello-conmemorativo/
LOCATION:Agrupación de Cofradías de Jaén\, Bernardo Lopez \, Jaén\, Jaén\, 23001\, España
END:VEVENT
BEGIN:VEVENT
DTSTART;TZID=Europe/Madrid:20190304T190000
DTEND;TZID=Europe/Madrid:20190305T210000
DTSTAMP:20260422T204541
CREATED:20190304T162343Z
LAST-MODIFIED:20190304T162343Z
UID:6331-1551726000-1551819600@piedadyestrella.es
SUMMARY:Recogida del Boletín 2019 en Casa de Hermandad
DESCRIPTION:
URL:https://piedadyestrella.es/evento/recogida-del-boletin-2019-en-casa-de-hermandad/
LOCATION:Casa de Hermandad\, Plaza Purisima Concepción\, Jaén\, Jaén\, 23002\, España
END:VEVENT
BEGIN:VEVENT
DTSTART;TZID=Europe/Madrid:20190304T190000
DTEND;TZID=Europe/Madrid:20190304T213000
DTSTAMP:20260422T204541
CREATED:20190225T092741Z
LAST-MODIFIED:20190225T092741Z
UID:6305-1551726000-1551735000@piedadyestrella.es
SUMMARY:Recogida papeleta sitio Miércoles de Ceniza
DESCRIPTION:
URL:https://piedadyestrella.es/evento/recogida-papeleta-sitio-miercoles-de-ceniza/
LOCATION:Casa de Hermandad\, Plaza Purisima Concepción\, Jaén\, Jaén\, 23002\, España
END:VEVENT
BEGIN:VEVENT
DTSTART;TZID=Europe/Madrid:20190227T210000
DTEND;TZID=Europe/Madrid:20190227T220000
DTSTAMP:20260422T204541
CREATED:20181030T085445Z
LAST-MODIFIED:20190220T113731Z
UID:5966-1551301200-1551304800@piedadyestrella.es
SUMMARY:Presentación Cartel y Boletín 2019
DESCRIPTION:
URL:https://piedadyestrella.es/evento/presentacion-cartel-y-boletin-2018/
LOCATION:Agrupación de Cofradías de Jaén\, Bernardo Lopez \, Jaén\, Jaén\, 23001\, España
ATTACH;FMTTYPE=image/jpeg:https://piedadyestrella.es/wp-content/uploads/2019/02/WhatsApp-Image-2019-02-19-at-22.22.14.jpeg
END:VEVENT
BEGIN:VEVENT
DTSTART;TZID=Europe/Madrid:20190223T200000
DTEND;TZID=Europe/Madrid:20190223T220000
DTSTAMP:20260422T204541
CREATED:20190104T131344Z
LAST-MODIFIED:20190210T095049Z
UID:6153-1550952000-1550959200@piedadyestrella.es
SUMMARY:Hermanamiento Cofradía Divino Maestro
DESCRIPTION:
URL:https://piedadyestrella.es/evento/hermanamiento-cofradia-divino-maestro/
LOCATION:Iglesia de la Merced\, Plaza de la Merced\, Jaén\, JAEN\, 23002\, España
END:VEVENT
BEGIN:VEVENT
DTSTART;TZID=Europe/Madrid:20190222T210000
DTEND;TZID=Europe/Madrid:20190222T230000
DTSTAMP:20260422T204541
CREATED:20181121T080655Z
LAST-MODIFIED:20181121T080655Z
UID:6072-1550869200-1550876400@piedadyestrella.es
SUMMARY:Ensayo Paso Misterio
DESCRIPTION:
URL:https://piedadyestrella.es/evento/ensayo-paso-misterio-2/
LOCATION:Casa de Hermandad\, Plaza Purisima Concepción\, Jaén\, Jaén\, 23002\, España
END:VEVENT
BEGIN:VEVENT
DTSTART;TZID=Europe/Madrid:20190216T203000
DTEND;TZID=Europe/Madrid:20190216T230000
DTSTAMP:20260422T204541
CREATED:20181030T084529Z
LAST-MODIFIED:20190114T205629Z
UID:5963-1550349000-1550358000@piedadyestrella.es
SUMMARY:Concierto Benéfico X Aniversario Dominico
DESCRIPTION:Concierto Benéfico X Aniversario Dominico con de la Agrupación Musical Ntro. Padre Jesús de la Piedad\, Asociación Musical Pedro Morales de Lopera\, Banda de Cornetas y Tambores de la Expiración\, Coros y Danzas Raquel Damas. Teatro Infanta Leonor a las 20:30
URL:https://piedadyestrella.es/evento/concierto-benefico-x-aniversario-dominico/
LOCATION:Teatro Infanta Leonor\, Molino de la Condesa s/n\, Jaén\, Jaén\, 23004\, España
ATTACH;FMTTYPE=image/jpeg:https://piedadyestrella.es/wp-content/uploads/2019/01/WhatsApp-Image-2019-01-11-at-17.07.20.jpeg
END:VEVENT
BEGIN:VEVENT
DTSTART;TZID=Europe/Madrid:20190215T210000
DTEND;TZID=Europe/Madrid:20190215T230000
DTSTAMP:20260422T204541
CREATED:20181121T080924Z
LAST-MODIFIED:20181121T080924Z
UID:6078-1550264400-1550271600@piedadyestrella.es
SUMMARY:Ensayo Paso Palio
DESCRIPTION:
URL:https://piedadyestrella.es/evento/ensayo-paso-palio-2/
LOCATION:Casa de Hermandad\, Plaza Purisima Concepción\, Jaén\, Jaén\, 23002\, España
END:VEVENT
BEGIN:VEVENT
DTSTART;TZID=Europe/Madrid:20190215T203000
DTEND;TZID=Europe/Madrid:20190215T220000
DTSTAMP:20260422T204541
CREATED:20190104T131436Z
LAST-MODIFIED:20190104T131436Z
UID:6155-1550262600-1550268000@piedadyestrella.es
SUMMARY:Presentación del Cartel del Miércoles de Ceniza
DESCRIPTION:
URL:https://piedadyestrella.es/evento/presentacion-del-cartel-del-miercoles-de-ceniza/
LOCATION:Agrupación de Cofradías de Jaén\, Bernardo Lopez \, Jaén\, Jaén\, 23001\, España
END:VEVENT
END:VCALENDAR