BEGIN:VCALENDAR
VERSION:2.0
PRODID:-//Hermandad Piedad y Estrella - ECPv6.15.20//NONSGML v1.0//EN
CALSCALE:GREGORIAN
METHOD:PUBLISH
X-WR-CALNAME:Hermandad Piedad y Estrella
X-ORIGINAL-URL:https://piedadyestrella.es
X-WR-CALDESC:Eventos para Hermandad Piedad y Estrella
REFRESH-INTERVAL;VALUE=DURATION:PT1H
X-Robots-Tag:noindex
X-PUBLISHED-TTL:PT1H
BEGIN:VTIMEZONE
TZID:Europe/Madrid
BEGIN:DAYLIGHT
TZOFFSETFROM:+0100
TZOFFSETTO:+0200
TZNAME:CEST
DTSTART:20170326T010000
END:DAYLIGHT
BEGIN:STANDARD
TZOFFSETFROM:+0200
TZOFFSETTO:+0100
TZNAME:CET
DTSTART:20171029T010000
END:STANDARD
BEGIN:DAYLIGHT
TZOFFSETFROM:+0100
TZOFFSETTO:+0200
TZNAME:CEST
DTSTART:20180325T010000
END:DAYLIGHT
BEGIN:STANDARD
TZOFFSETFROM:+0200
TZOFFSETTO:+0100
TZNAME:CET
DTSTART:20181028T010000
END:STANDARD
BEGIN:DAYLIGHT
TZOFFSETFROM:+0100
TZOFFSETTO:+0200
TZNAME:CEST
DTSTART:20190331T010000
END:DAYLIGHT
BEGIN:STANDARD
TZOFFSETFROM:+0200
TZOFFSETTO:+0100
TZNAME:CET
DTSTART:20191027T010000
END:STANDARD
BEGIN:DAYLIGHT
TZOFFSETFROM:+0100
TZOFFSETTO:+0200
TZNAME:CEST
DTSTART:20200329T010000
END:DAYLIGHT
BEGIN:STANDARD
TZOFFSETFROM:+0200
TZOFFSETTO:+0100
TZNAME:CET
DTSTART:20201025T010000
END:STANDARD
END:VTIMEZONE
BEGIN:VEVENT
DTSTART;TZID=Europe/Madrid:20190104T200000
DTEND;TZID=Europe/Madrid:20190104T223000
DTSTAMP:20260424T145336
CREATED:20180924T070606Z
LAST-MODIFIED:20180924T070606Z
UID:5852-1546632000-1546641000@piedadyestrella.es
SUMMARY:Certamen Estrella de Oriente
DESCRIPTION:
URL:https://piedadyestrella.es/evento/certamen-estrella-de-oriente/
LOCATION:Teatro Darymelia\, Calle Colón\, Jaen\, Jaen\, 23001\, España
END:VEVENT
BEGIN:VEVENT
DTSTART;VALUE=DATE:20181225
DTEND;VALUE=DATE:20181226
DTSTAMP:20260424T145336
CREATED:20181030T082859Z
LAST-MODIFIED:20181030T082859Z
UID:5956-1545696000-1545782399@piedadyestrella.es
SUMMARY:Navidad
DESCRIPTION:
URL:https://piedadyestrella.es/evento/navidad/
LOCATION:Jaén
END:VEVENT
BEGIN:VEVENT
DTSTART;TZID=Europe/Madrid:20181224T200000
DTEND;TZID=Europe/Madrid:20181224T210000
DTSTAMP:20260424T145336
CREATED:20180924T070139Z
LAST-MODIFIED:20180924T070139Z
UID:5849-1545681600-1545685200@piedadyestrella.es
SUMMARY:Misa del gallo
DESCRIPTION:
URL:https://piedadyestrella.es/evento/misa-del-gallo-4/
LOCATION:Iglesia de la Purísima Concepción\, Plaza de la Purísima Concepción\, junto a la Calle Pilar de la Imprenta\, Jaén\, Jaén\, 23001\, España
END:VEVENT
BEGIN:VEVENT
DTSTART;TZID=Europe/Madrid:20181222T210000
DTEND;TZID=Europe/Madrid:20181222T223000
DTSTAMP:20260424T145336
CREATED:20181121T075942Z
LAST-MODIFIED:20181214T091612Z
UID:6065-1545512400-1545517800@piedadyestrella.es
SUMMARY:Zambombada 2018 “La Estrella”
DESCRIPTION:
URL:https://piedadyestrella.es/evento/zambombada-2018-la-estrella/
LOCATION:Local de Ensayo de la A.M. La Estrella\, Poligono Industrial Quiebracantaros\, 23001 Jaén\, JAEN\, JAEN\, 23009\, España
ATTACH;FMTTYPE=image/jpeg:https://piedadyestrella.es/wp-content/uploads/2018/11/IMG_20181214_101112.jpg
END:VEVENT
BEGIN:VEVENT
DTSTART;TZID=Europe/Madrid:20181222T173000
DTEND;TZID=Europe/Madrid:20181222T183000
DTSTAMP:20260424T145336
CREATED:20181126T084239Z
LAST-MODIFIED:20181126T084239Z
UID:6088-1545499800-1545503400@piedadyestrella.es
SUMMARY:Entrega de la cesta de Navidad a las Madres Dominicas
DESCRIPTION:Como cada año la Hermandad hará entrega a la Comunidad de Madres Dominicas de una cesta de Navidad con gran cantidad de productos navideños. Este año la entrega coincidirá con la felicitación que el Coro de la Hermandad le ofrece en forma de canto al que se unirán las voces de los miembros de Junta de Gobierno y de cofrades que quieran acercarse.
URL:https://piedadyestrella.es/evento/entrega-de-la-cesta-de-navidad-a-las-madres-dominicas/
LOCATION:Locutorio Convento\, C/ Llana 35\, JAÉN\, JAEN\, 23002\, España
END:VEVENT
BEGIN:VEVENT
DTSTART;TZID=Europe/Madrid:20181217T203000
DTEND;TZID=Europe/Madrid:20181217T213000
DTSTAMP:20260424T145336
CREATED:20181026T080024Z
LAST-MODIFIED:20181209T202231Z
UID:5899-1545078600-1545082200@piedadyestrella.es
SUMMARY:Charla de Formación en la Agrupación de Cofradías. Las Bienaventuranzas como camino del Maestro para ser Santos
DESCRIPTION:
URL:https://piedadyestrella.es/evento/charla-de-formacion-en-la-agrupacion-de-cofradias-las-bienaventuranzas-como-camino-del-maestro-para-ser-santos/
LOCATION:Agrupación de Cofradías de Jaén\, Bernardo Lopez \, Jaén\, Jaén\, 23001\, España
END:VEVENT
BEGIN:VEVENT
DTSTART;TZID=Europe/Madrid:20181208T090000
DTEND;TZID=Europe/Madrid:20181208T100000
DTSTAMP:20260424T145336
CREATED:20180924T070101Z
LAST-MODIFIED:20180924T070101Z
UID:5847-1544259600-1544263200@piedadyestrella.es
SUMMARY:Festividad de la Inmaculada Concepción
DESCRIPTION:
URL:https://piedadyestrella.es/evento/festividad-de-la-inmaculada-concepcion-3/
LOCATION:Iglesia de la Purísima Concepción\, Plaza de la Purísima Concepción\, junto a la Calle Pilar de la Imprenta\, Jaén\, Jaén\, 23001\, España
END:VEVENT
BEGIN:VEVENT
DTSTART;TZID=Europe/Madrid:20181201T193000
DTEND;TZID=Europe/Madrid:20181201T210000
DTSTAMP:20260424T145336
CREATED:20180924T070009Z
LAST-MODIFIED:20180924T070009Z
UID:5845-1543692600-1543698000@piedadyestrella.es
SUMMARY:Misa de Hermandad
DESCRIPTION:
URL:https://piedadyestrella.es/evento/misa-de-hermandad/
LOCATION:Iglesia de la Purísima Concepción\, Plaza de la Purísima Concepción\, junto a la Calle Pilar de la Imprenta\, Jaén\, Jaén\, 23001\, España
END:VEVENT
BEGIN:VEVENT
DTSTART;TZID=Europe/Madrid:20181127T190000
DTEND;TZID=Europe/Madrid:20181127T200000
DTSTAMP:20260424T145336
CREATED:20181030T082706Z
LAST-MODIFIED:20181030T082706Z
UID:5953-1543345200-1543348800@piedadyestrella.es
SUMMARY:Apertura de la Capilla
DESCRIPTION:
URL:https://piedadyestrella.es/evento/apertura-de-la-capilla-5/
LOCATION:Iglesia de la Purísima Concepción\, Plaza de la Purísima Concepción\, junto a la Calle Pilar de la Imprenta\, Jaén\, Jaén\, 23001\, España
END:VEVENT
BEGIN:VEVENT
DTSTART;TZID=Europe/Madrid:20181126T203000
DTEND;TZID=Europe/Madrid:20181126T213000
DTSTAMP:20260424T145336
CREATED:20181026T075910Z
LAST-MODIFIED:20181026T075910Z
UID:5895-1543264200-1543267800@piedadyestrella.es
SUMMARY:Charla de Formación en la Agrupación de Cofradías. Dos enemigos para la Santidad
DESCRIPTION:
URL:https://piedadyestrella.es/evento/charla-de-formacion-en-la-agrupacion-de-cofradias-dos-enemigos-para-la-santidad/
LOCATION:Agrupación de Cofradías de Jaén\, Bernardo Lopez \, Jaén\, Jaén\, 23001\, España
END:VEVENT
BEGIN:VEVENT
DTSTART;VALUE=DATE:20181125
DTEND;VALUE=DATE:20181126
DTSTAMP:20260424T145336
CREATED:20180924T065402Z
LAST-MODIFIED:20181123T074815Z
UID:5843-1543104000-1543190399@piedadyestrella.es
SUMMARY:Cristo Rey y Santa Catalina
DESCRIPTION:SANTA CATALINA \nPREGÓN: Domingo 18/11/18\, 12:30 hrs.\, a cargo de Dª María José Chica García\,Salón de Actos Agrupación de Cofradías.\nTRIDUO: Jueves\, Viernes y Sábado 22\, 23 y 24/11/18\, 19:30 hrs. Iglesia Parroquial de la Inmaculada y San Pedro Pascual.\nPROCESIÓN\, MISA Y ROMERÍA: Domingo 25/11/18\, a las 9:30 hrs. Eucaristía 12:30. Castillo de Santa Catalina. \nXXX Encuentro Diocesano de Cofradías y Hermandes de la Diócesis de Jaén en el Seminario.\nA partir de las 9.30 en el Seminario
URL:https://piedadyestrella.es/evento/cristo-rey/
LOCATION:Jaén
END:VEVENT
BEGIN:VEVENT
DTSTART;TZID=Europe/Madrid:20181122T200000
DTEND;TZID=Europe/Madrid:20181122T210000
DTSTAMP:20260424T145336
CREATED:20180924T065327Z
LAST-MODIFIED:20181120T122319Z
UID:5841-1542916800-1542920400@piedadyestrella.es
SUMMARY:Fiesta en Honor de Sta. Cecilia
DESCRIPTION:
URL:https://piedadyestrella.es/evento/fiesta-en-honor-de-sta-cecilia/
LOCATION:Iglesia de la Purísima Concepción\, Plaza de la Purísima Concepción\, junto a la Calle Pilar de la Imprenta\, Jaén\, Jaén\, 23001\, España
END:VEVENT
BEGIN:VEVENT
DTSTART;TZID=Europe/Madrid:20181120T190000
DTEND;TZID=Europe/Madrid:20181120T200000
DTSTAMP:20260424T145336
CREATED:20181030T082638Z
LAST-MODIFIED:20181030T082638Z
UID:5951-1542740400-1542744000@piedadyestrella.es
SUMMARY:Apertura de la Capilla
DESCRIPTION:
URL:https://piedadyestrella.es/evento/apertura-de-la-capilla-4/
LOCATION:Iglesia de la Purísima Concepción\, Plaza de la Purísima Concepción\, junto a la Calle Pilar de la Imprenta\, Jaén\, Jaén\, 23001\, España
END:VEVENT
BEGIN:VEVENT
DTSTART;TZID=Europe/Madrid:20181118T133000
DTEND;TZID=Europe/Madrid:20181118T170000
DTSTAMP:20260424T145336
CREATED:20180924T065203Z
LAST-MODIFIED:20180924T065203Z
UID:5838-1542547800-1542560400@piedadyestrella.es
SUMMARY:Bodeguita de Santo Domingo
DESCRIPTION:
URL:https://piedadyestrella.es/evento/bodeguita-de-santo-domingo/
LOCATION:Casa de Hermandad\, Plaza Purisima Concepción\, Jaén\, Jaén\, 23002\, España
END:VEVENT
BEGIN:VEVENT
DTSTART;TZID=Europe/Madrid:20181118T120000
DTEND;TZID=Europe/Madrid:20181118T133000
DTSTAMP:20260424T145336
CREATED:20180924T065052Z
LAST-MODIFIED:20181030T083412Z
UID:5835-1542542400-1542547800@piedadyestrella.es
SUMMARY:Triduo Estatutario de María Stma. de la Estrella. Dia 3
DESCRIPTION:Preside el Padre Antonio Praena O.P.
URL:https://piedadyestrella.es/evento/triduo-estatutario-de-maria-stma-de-la-estrella-dia-3/
LOCATION:Iglesia de la Purísima Concepción\, Plaza de la Purísima Concepción\, junto a la Calle Pilar de la Imprenta\, Jaén\, Jaén\, 23001\, España
END:VEVENT
BEGIN:VEVENT
DTSTART;TZID=Europe/Madrid:20181117T193000
DTEND;TZID=Europe/Madrid:20181117T210000
DTSTAMP:20260424T145336
CREATED:20180924T064950Z
LAST-MODIFIED:20181030T083354Z
UID:5832-1542483000-1542488400@piedadyestrella.es
SUMMARY:Triduo Estatutario de María Stma. de la Estrella. Dia 2
DESCRIPTION:Preside el Padre Antonio Praena O.P.
URL:https://piedadyestrella.es/evento/triduo-estatutario-de-maria-stma-de-la-estrella-dia-2/
LOCATION:Iglesia de la Purísima Concepción\, Plaza de la Purísima Concepción\, junto a la Calle Pilar de la Imprenta\, Jaén\, Jaén\, 23001\, España
END:VEVENT
BEGIN:VEVENT
DTSTART;TZID=Europe/Madrid:20181116T193000
DTEND;TZID=Europe/Madrid:20181116T210000
DTSTAMP:20260424T145336
CREATED:20180924T064902Z
LAST-MODIFIED:20181030T083322Z
UID:5830-1542396600-1542402000@piedadyestrella.es
SUMMARY:Triduo Estatutario de María Stma. de la Estrella. Dia 1
DESCRIPTION:Preside el Padre Antonio Praena O.P.
URL:https://piedadyestrella.es/evento/triduo-estatutario-de-maria-stma-de-la-estrella-dia-1/
LOCATION:Iglesia de la Purísima Concepción\, Plaza de la Purísima Concepción\, junto a la Calle Pilar de la Imprenta\, Jaén\, Jaén\, 23001\, España
END:VEVENT
BEGIN:VEVENT
DTSTART;TZID=Europe/Madrid:20181113T190000
DTEND;TZID=Europe/Madrid:20181113T200000
DTSTAMP:20260424T145336
CREATED:20181030T082601Z
LAST-MODIFIED:20181030T082601Z
UID:5949-1542135600-1542139200@piedadyestrella.es
SUMMARY:Apertura de la Capilla
DESCRIPTION:
URL:https://piedadyestrella.es/evento/apertura-de-la-capilla-3/
LOCATION:Iglesia de la Purísima Concepción\, Plaza de la Purísima Concepción\, junto a la Calle Pilar de la Imprenta\, Jaén\, Jaén\, 23001\, España
END:VEVENT
BEGIN:VEVENT
DTSTART;TZID=Europe/Madrid:20181106T190000
DTEND;TZID=Europe/Madrid:20181106T200000
DTSTAMP:20260424T145336
CREATED:20181030T082448Z
LAST-MODIFIED:20181030T082448Z
UID:5947-1541530800-1541534400@piedadyestrella.es
SUMMARY:Apertura de la Capilla
DESCRIPTION:
URL:https://piedadyestrella.es/evento/apertura-de-la-capilla-2/
LOCATION:Iglesia de la Purísima Concepción\, Plaza de la Purísima Concepción\, junto a la Calle Pilar de la Imprenta\, Jaén\, Jaén\, 23001\, España
END:VEVENT
BEGIN:VEVENT
DTSTART;TZID=Europe/Madrid:20181102T193000
DTEND;TZID=Europe/Madrid:20181102T203000
DTSTAMP:20260424T145336
CREATED:20180924T064747Z
LAST-MODIFIED:20181031T123600Z
UID:5828-1541187000-1541190600@piedadyestrella.es
SUMMARY:Misa de Difuntos
DESCRIPTION:
URL:https://piedadyestrella.es/evento/misa-de-difuntos-2/
LOCATION:Iglesia de la Purísima Concepción\, Plaza de la Purísima Concepción\, junto a la Calle Pilar de la Imprenta\, Jaén\, Jaén\, 23001\, España
END:VEVENT
BEGIN:VEVENT
DTSTART;TZID=Europe/Madrid:20181030T190000
DTEND;TZID=Europe/Madrid:20181030T200000
DTSTAMP:20260424T145336
CREATED:20181030T080045Z
LAST-MODIFIED:20181030T080045Z
UID:5945-1540926000-1540929600@piedadyestrella.es
SUMMARY:Apertura de la Capilla
DESCRIPTION:
URL:https://piedadyestrella.es/evento/apertura-de-la-capilla/
LOCATION:Iglesia de la Purísima Concepción\, Plaza de la Purísima Concepción\, junto a la Calle Pilar de la Imprenta\, Jaén\, Jaén\, 23001\, España
END:VEVENT
BEGIN:VEVENT
DTSTART;TZID=Europe/Madrid:20181029T203000
DTEND;TZID=Europe/Madrid:20181029T213000
DTSTAMP:20260424T145336
CREATED:20181026T073825Z
LAST-MODIFIED:20181026T075754Z
UID:5889-1540845000-1540848600@piedadyestrella.es
SUMMARY:Charla de Formación en la Agrupación de Cofradías. Llamada a la Santidad
DESCRIPTION:
URL:https://piedadyestrella.es/evento/charla-de-formacion-en-la-agrupacion-de-cofradias/
LOCATION:Agrupación de Cofradías de Jaén\, Bernardo Lopez \, Jaén\, Jaén\, 23001\, España
END:VEVENT
BEGIN:VEVENT
DTSTART;VALUE=DATE:20181012
DTEND;VALUE=DATE:20181022
DTSTAMP:20260424T145336
CREATED:20180924T064639Z
LAST-MODIFIED:20180924T064639Z
UID:5826-1539302400-1540166399@piedadyestrella.es
SUMMARY:Feria de San Lucas 2018
DESCRIPTION:
URL:https://piedadyestrella.es/evento/feria-de-san-lucas-2018/
LOCATION:Recinto Ferial «La Vestida»\, Jaén\, Jaén\, España
END:VEVENT
BEGIN:VEVENT
DTSTART;TZID=Europe/Madrid:20181007T180000
DTEND;TZID=Europe/Madrid:20181007T230000
DTSTAMP:20260424T145336
CREATED:20180924T063939Z
LAST-MODIFIED:20180924T063939Z
UID:5818-1538935200-1538953200@piedadyestrella.es
SUMMARY:Procesión de Ntra. Sra. del Rosario
DESCRIPTION:
URL:https://piedadyestrella.es/evento/procesion-de-ntra-sra-del-rosario-2/
LOCATION:Iglesia de la Purísima Concepción\, Plaza de la Purísima Concepción\, junto a la Calle Pilar de la Imprenta\, Jaén\, Jaén\, 23001\, España
END:VEVENT
BEGIN:VEVENT
DTSTART;TZID=Europe/Madrid:20181007T120000
DTEND;TZID=Europe/Madrid:20181007T133000
DTSTAMP:20260424T145336
CREATED:20180924T063855Z
LAST-MODIFIED:20180924T063855Z
UID:5816-1538913600-1538919000@piedadyestrella.es
SUMMARY:Triduo en Honor a Ntra. Sra. del Rosario. Dia 3
DESCRIPTION:
URL:https://piedadyestrella.es/evento/triduo-en-honor-a-ntra-sra-del-rosario-dia-3/
LOCATION:Iglesia de la Purísima Concepción\, Plaza de la Purísima Concepción\, junto a la Calle Pilar de la Imprenta\, Jaén\, Jaén\, 23001\, España
END:VEVENT
BEGIN:VEVENT
DTSTART;TZID=Europe/Madrid:20181006T213000
DTEND;TZID=Europe/Madrid:20181006T233000
DTSTAMP:20260424T145336
CREATED:20180924T064455Z
LAST-MODIFIED:20180924T064455Z
UID:5824-1538861400-1538868600@piedadyestrella.es
SUMMARY:Verbena del Rosario
DESCRIPTION:
URL:https://piedadyestrella.es/evento/verbena-del-rosario-3/
LOCATION:Casa de Hermandad\, Plaza Purisima Concepción\, Jaén\, Jaén\, 23002\, España
END:VEVENT
BEGIN:VEVENT
DTSTART;TZID=Europe/Madrid:20181006T200000
DTEND;TZID=Europe/Madrid:20181006T213000
DTSTAMP:20260424T145336
CREATED:20180924T063811Z
LAST-MODIFIED:20180924T063811Z
UID:5814-1538856000-1538861400@piedadyestrella.es
SUMMARY:Triduo en Honor a Ntra. Sra. del Rosario. Dia 2
DESCRIPTION:
URL:https://piedadyestrella.es/evento/triduo-en-honor-a-ntra-sra-del-rosario-dia-2/
LOCATION:Iglesia de la Purísima Concepción\, Plaza de la Purísima Concepción\, junto a la Calle Pilar de la Imprenta\, Jaén\, Jaén\, 23001\, España
END:VEVENT
BEGIN:VEVENT
DTSTART;TZID=Europe/Madrid:20181005T213000
DTEND;TZID=Europe/Madrid:20181005T233000
DTSTAMP:20260424T145336
CREATED:20180924T064257Z
LAST-MODIFIED:20180924T064257Z
UID:5820-1538775000-1538782200@piedadyestrella.es
SUMMARY:Verbena del Rosario
DESCRIPTION:
URL:https://piedadyestrella.es/evento/verbena-del-rosario-2/
LOCATION:Casa de Hermandad\, Plaza Purisima Concepción\, Jaén\, Jaén\, 23002\, España
END:VEVENT
BEGIN:VEVENT
DTSTART;TZID=Europe/Madrid:20181005T200000
DTEND;TZID=Europe/Madrid:20181005T213000
DTSTAMP:20260424T145336
CREATED:20180924T063724Z
LAST-MODIFIED:20180924T064002Z
UID:5812-1538769600-1538775000@piedadyestrella.es
SUMMARY:Triduo en Honor a Ntra. Sra. del Rosario. Dia 1
DESCRIPTION:
URL:https://piedadyestrella.es/evento/triduo-en-honor-a-ntra-sra-del-rosario-dia-1/
LOCATION:Iglesia de la Purísima Concepción\, Plaza de la Purísima Concepción\, junto a la Calle Pilar de la Imprenta\, Jaén\, Jaén\, 23001\, España
END:VEVENT
BEGIN:VEVENT
DTSTART;TZID=Europe/Madrid:20180930T180000
DTEND;TZID=Europe/Madrid:20180930T190000
DTSTAMP:20260424T145336
CREATED:20180917T064804Z
LAST-MODIFIED:20180917T064804Z
UID:5798-1538330400-1538334000@piedadyestrella.es
SUMMARY:Mudá del paso del Rosario
DESCRIPTION:
URL:https://piedadyestrella.es/evento/muda-del-paso-del-rosario/
LOCATION:Casa de Hermandad\, Plaza Purisima Concepción\, Jaén\, Jaén\, 23002\, España
END:VEVENT
END:VCALENDAR