BEGIN:VCALENDAR
VERSION:2.0
PRODID:-//Hermandad Piedad y Estrella - ECPv6.15.20//NONSGML v1.0//EN
CALSCALE:GREGORIAN
METHOD:PUBLISH
X-ORIGINAL-URL:https://piedadyestrella.es
X-WR-CALDESC:Eventos para Hermandad Piedad y Estrella
REFRESH-INTERVAL;VALUE=DURATION:PT1H
X-Robots-Tag:noindex
X-PUBLISHED-TTL:PT1H
BEGIN:VTIMEZONE
TZID:Europe/Madrid
BEGIN:DAYLIGHT
TZOFFSETFROM:+0100
TZOFFSETTO:+0200
TZNAME:CEST
DTSTART:20160327T010000
END:DAYLIGHT
BEGIN:STANDARD
TZOFFSETFROM:+0200
TZOFFSETTO:+0100
TZNAME:CET
DTSTART:20161030T010000
END:STANDARD
BEGIN:DAYLIGHT
TZOFFSETFROM:+0100
TZOFFSETTO:+0200
TZNAME:CEST
DTSTART:20170326T010000
END:DAYLIGHT
BEGIN:STANDARD
TZOFFSETFROM:+0200
TZOFFSETTO:+0100
TZNAME:CET
DTSTART:20171029T010000
END:STANDARD
BEGIN:DAYLIGHT
TZOFFSETFROM:+0100
TZOFFSETTO:+0200
TZNAME:CEST
DTSTART:20180325T010000
END:DAYLIGHT
BEGIN:STANDARD
TZOFFSETFROM:+0200
TZOFFSETTO:+0100
TZNAME:CET
DTSTART:20181028T010000
END:STANDARD
END:VTIMEZONE
BEGIN:VEVENT
DTSTART;TZID=Europe/Madrid:20171202T193000
DTEND;TZID=Europe/Madrid:20171202T210000
DTSTAMP:20260422T122804
CREATED:20171129T083408Z
LAST-MODIFIED:20171129T083408Z
UID:5198-1512243000-1512248400@piedadyestrella.es
SUMMARY:Misa de Primero de mes
DESCRIPTION:
URL:https://piedadyestrella.es/evento/misa-de-primero-de-mes-4/
LOCATION:Iglesia de la Purísima Concepción\, Plaza de la Purísima Concepción\, junto a la Calle Pilar de la Imprenta\, Jaén\, Jaén\, 23001\, España
END:VEVENT
BEGIN:VEVENT
DTSTART;TZID=Europe/Madrid:20171208T120000
DTEND;TZID=Europe/Madrid:20171208T133000
DTSTAMP:20260422T122804
CREATED:20171120T075533Z
LAST-MODIFIED:20171120T075533Z
UID:5155-1512734400-1512739800@piedadyestrella.es
SUMMARY:Festividad de la Inmaculada Concepción
DESCRIPTION:
URL:https://piedadyestrella.es/evento/festividad-de-la-inmaculada-concepcion-2/
LOCATION:Iglesia de la Purísima Concepción\, Plaza de la Purísima Concepción\, junto a la Calle Pilar de la Imprenta\, Jaén\, Jaén\, 23001\, España
END:VEVENT
BEGIN:VEVENT
DTSTART;TZID=Europe/Madrid:20171218T203000
DTEND;TZID=Europe/Madrid:20171218T213000
DTSTAMP:20260422T122804
CREATED:20171210T211808Z
LAST-MODIFIED:20171210T211808Z
UID:5236-1513629000-1513632600@piedadyestrella.es
SUMMARY:Charla Formativa. La iglesia local nace de la misión y vive para la misión
DESCRIPTION:Siendo su ponente el  \nReverendo Sr. D. Francisco Rosales Fernández \n(Consiliario de la Agrupación de Cofradías y Hermandades)
URL:https://piedadyestrella.es/evento/charla-formativa-la-iglesia-local-nace-de-la-mision-y-vive-para-la-mision/
LOCATION:Agrupación de Cofradías de Jaén\, Bernardo Lopez \, Jaén\, Jaén\, 23001\, España
END:VEVENT
BEGIN:VEVENT
DTSTART;TZID=Europe/Madrid:20171223T200000
DTEND;TZID=Europe/Madrid:20171223T230000
DTSTAMP:20260422T122804
CREATED:20171210T202844Z
LAST-MODIFIED:20171210T203711Z
UID:5228-1514059200-1514070000@piedadyestrella.es
SUMMARY:Zambombada 2017 “La Estrella”
DESCRIPTION:
URL:https://piedadyestrella.es/evento/zambombada-2017-la-estrella/
LOCATION:Local de Ensayo de la A.M. La Estrella\, Poligono Industrial Quiebracantaros\, 23001 Jaén\, JAEN\, JAEN\, 23009\, España
ATTACH;FMTTYPE=image/jpeg:https://piedadyestrella.es/wp-content/uploads/2017/12/DQNW_r3X0AAqdGe.jpg
END:VEVENT
BEGIN:VEVENT
DTSTART;TZID=Europe/Madrid:20171224T200000
DTEND;TZID=Europe/Madrid:20171224T200000
DTSTAMP:20260422T122804
CREATED:20171129T083511Z
LAST-MODIFIED:20171217T114030Z
UID:5200-1514145600-1514145600@piedadyestrella.es
SUMMARY:Misa del Gallo
DESCRIPTION:
URL:https://piedadyestrella.es/evento/misa-del-gallo-3/
LOCATION:Iglesia de la Purísima Concepción\, Plaza de la Purísima Concepción\, junto a la Calle Pilar de la Imprenta\, Jaén\, Jaén\, 23001\, España
END:VEVENT
END:VCALENDAR