BEGIN:VCALENDAR
VERSION:2.0
PRODID:-//Hermandad Piedad y Estrella - ECPv6.15.20//NONSGML v1.0//EN
CALSCALE:GREGORIAN
METHOD:PUBLISH
X-WR-CALNAME:Hermandad Piedad y Estrella
X-ORIGINAL-URL:https://piedadyestrella.es
X-WR-CALDESC:Eventos para Hermandad Piedad y Estrella
REFRESH-INTERVAL;VALUE=DURATION:PT1H
X-Robots-Tag:noindex
X-PUBLISHED-TTL:PT1H
BEGIN:VTIMEZONE
TZID:Europe/Madrid
BEGIN:DAYLIGHT
TZOFFSETFROM:+0100
TZOFFSETTO:+0200
TZNAME:CEST
DTSTART:20170326T010000
END:DAYLIGHT
BEGIN:STANDARD
TZOFFSETFROM:+0200
TZOFFSETTO:+0100
TZNAME:CET
DTSTART:20171029T010000
END:STANDARD
BEGIN:DAYLIGHT
TZOFFSETFROM:+0100
TZOFFSETTO:+0200
TZNAME:CEST
DTSTART:20180325T010000
END:DAYLIGHT
BEGIN:STANDARD
TZOFFSETFROM:+0200
TZOFFSETTO:+0100
TZNAME:CET
DTSTART:20181028T010000
END:STANDARD
BEGIN:DAYLIGHT
TZOFFSETFROM:+0100
TZOFFSETTO:+0200
TZNAME:CEST
DTSTART:20190331T010000
END:DAYLIGHT
BEGIN:STANDARD
TZOFFSETFROM:+0200
TZOFFSETTO:+0100
TZNAME:CET
DTSTART:20191027T010000
END:STANDARD
END:VTIMEZONE
BEGIN:VEVENT
DTSTART;TZID=Europe/Madrid:20180504T180000
DTEND;TZID=Europe/Madrid:20180506T170000
DTSTAMP:20260424T144226
CREATED:20180403T075239Z
LAST-MODIFIED:20180403T075239Z
UID:5557-1525456800-1525626000@piedadyestrella.es
SUMMARY:Cruces de mayo
DESCRIPTION:
URL:https://piedadyestrella.es/evento/cruces-de-mayo-3/
LOCATION:Casa de Hermandad\, Plaza Purisima Concepción\, Jaén\, Jaén\, 23002\, España
END:VEVENT
BEGIN:VEVENT
DTSTART;TZID=Europe/Madrid:20180506T120000
DTEND;TZID=Europe/Madrid:20180506T130000
DTSTAMP:20260424T144226
CREATED:20180403T075322Z
LAST-MODIFIED:20180403T075322Z
UID:5559-1525608000-1525611600@piedadyestrella.es
SUMMARY:Fiesta de la Rosa
DESCRIPTION:
URL:https://piedadyestrella.es/evento/fiesta-de-la-rosa-3/
LOCATION:Iglesia de la Purísima Concepción\, Plaza de la Purísima Concepción\, junto a la Calle Pilar de la Imprenta\, Jaén\, Jaén\, 23001\, España
END:VEVENT
BEGIN:VEVENT
DTSTART;TZID=Europe/Madrid:20180511T203000
DTEND;TZID=Europe/Madrid:20180511T213000
DTSTAMP:20260424T144226
CREATED:20180423T095907Z
LAST-MODIFIED:20180423T095907Z
UID:5595-1526070600-1526074200@piedadyestrella.es
SUMMARY:Charla formativa Diálogos fe y razón
DESCRIPTION:A cargo de  D. Rafael Claramunt Manjón\nHermano Mayor del Paso de Baeza
URL:https://piedadyestrella.es/evento/charla-formativa-dialogos-fe-y-razon/
END:VEVENT
BEGIN:VEVENT
DTSTART;TZID=Europe/Madrid:20180512T190000
DTEND;TZID=Europe/Madrid:20180512T210000
DTSTAMP:20260424T144226
CREATED:20180403T075856Z
LAST-MODIFIED:20180502T094349Z
UID:5561-1526151600-1526158800@piedadyestrella.es
SUMMARY:Rosario Vespertino con María Santísima de la Estrella
DESCRIPTION:
URL:https://piedadyestrella.es/evento/rosario-vespertino-con-maria-santisima-de-la-estrella/
LOCATION:Iglesia de la Purísima Concepción\, Plaza de la Purísima Concepción\, junto a la Calle Pilar de la Imprenta\, Jaén\, Jaén\, 23001\, España
END:VEVENT
BEGIN:VEVENT
DTSTART;VALUE=DATE:20180513
DTEND;VALUE=DATE:20180514
DTSTAMP:20260424T144226
CREATED:20180403T080425Z
LAST-MODIFIED:20180403T080425Z
UID:5569-1526169600-1526255999@piedadyestrella.es
SUMMARY:Ascensión del Señor
DESCRIPTION:
URL:https://piedadyestrella.es/evento/ascension-del-senor/
END:VEVENT
BEGIN:VEVENT
DTSTART;VALUE=DATE:20180520
DTEND;VALUE=DATE:20180521
DTSTAMP:20260424T144226
CREATED:20180403T080358Z
LAST-MODIFIED:20180403T080358Z
UID:5567-1526774400-1526860799@piedadyestrella.es
SUMMARY:Pentecostés
DESCRIPTION:
URL:https://piedadyestrella.es/evento/pentecostes/
END:VEVENT
BEGIN:VEVENT
DTSTART;TZID=Europe/Madrid:20180523T203000
DTEND;TZID=Europe/Madrid:20180523T213000
DTSTAMP:20260424T144226
CREATED:20180510T120627Z
LAST-MODIFIED:20180511T090441Z
UID:5631-1527107400-1527111000@piedadyestrella.es
SUMMARY:Bendición del azulejo Virgen de la Estrella
DESCRIPTION:El próximo día 23 de mayo\, miércoles a las 20:30 h. se bendecirá e inaugurará el azulejo de María Santísima de la Estrella conmemorativo de su nombramiento como Protectora del Barrio de la Alcantarilla. Espero vuestra presencia
URL:https://piedadyestrella.es/evento/bendicion-del-azulejo-virgen-de-la-estrella/
LOCATION:Calle Senda de los Huertos\, C/ Senda de los Huertos\, JAEN\, jaen\, 23002\, España
END:VEVENT
BEGIN:VEVENT
DTSTART;TZID=Europe/Madrid:20180526T183000
DTEND;TZID=Europe/Madrid:20180526T200000
DTSTAMP:20260424T144226
CREATED:20180403T080024Z
LAST-MODIFIED:20180510T120037Z
UID:5563-1527359400-1527364800@piedadyestrella.es
SUMMARY:Solemne Fiesta Estatutaria en Honor a Ntro. Padre Jesús de la Piedad
DESCRIPTION:
URL:https://piedadyestrella.es/evento/solemne-fiesta-estatutaria-en-honor-a-ntro-padre-jesus-de-la-piedad-2/
LOCATION:Iglesia de la Purísima Concepción\, Plaza de la Purísima Concepción\, junto a la Calle Pilar de la Imprenta\, Jaén\, Jaén\, 23001\, España
END:VEVENT
END:VCALENDAR